BEGIN:VCALENDAR
VERSION:2.0
PRODID:-//International Moon Day - ECPv6.15.20//NONSGML v1.0//EN
CALSCALE:GREGORIAN
METHOD:PUBLISH
X-ORIGINAL-URL:https://internationalmoonday.org
X-WR-CALDESC:Events for International Moon Day
REFRESH-INTERVAL;VALUE=DURATION:PT1H
X-Robots-Tag:noindex
X-PUBLISHED-TTL:PT1H
BEGIN:VTIMEZONE
TZID:UTC
BEGIN:STANDARD
TZOFFSETFROM:+0000
TZOFFSETTO:+0000
TZNAME:UTC
DTSTART:20240101T000000
END:STANDARD
END:VTIMEZONE
BEGIN:VEVENT
DTSTART;TZID=UTC:20250730T180000
DTEND;TZID=UTC:20250730T210000
DTSTAMP:20260421T102624
CREATED:20250717T150715Z
LAST-MODIFIED:20250717T150725Z
UID:10000235-1753898400-1753909200@internationalmoonday.org
SUMMARY:Star Laws: A New Hope for Space Governance
DESCRIPTION:The School of Engineering\, Design and Built Environment and the School of Law are jointly hosting a lecture and networking event including the screening of a short film Moonrise 2021 in celebration of Moon Day (man landing on the Moon\, July 1969). \n“Star Laws: A New Hope for Space Governance” will be presented by our guest speaker Prof Steven Freeland.\nSteven Freeland (PhD\, LLM\, LLB\, BCom) is Emeritus Professor of International Law at Western Sydney University\, where he was previously the Dean of the School of Law\, and Professorial Fellow at Bond University. He also holds Visiting or Adjunct positions at various other Universities/Institutes in Copenhagen\, Vienna\, Toulouse\, Hong Kong\, Montreal\, Kuala Lumpur\, Vancouver\, Mumbai and London. Prior to becoming an academic\, he had a 20-year career as an international commercial lawyer and an investment banker. He was a Member of the Australian Space Agency Advisory Board (2020-2024) and has been an advisor to the Australian\, New Zealand\, Norwegian\, Malaysian and several other Governments on issues relating to national space legislative frameworks and policy. He represents the Australian Government at Committee on the Peaceful Uses of Outer Space (UNCOPUOS) meetings and\, has been appointed by UNCOPUOS as Chair of a 5-year ‘Working Group on Legal Aspects of Space Resource Activities’. He has also been a Visiting Professional within the Appeals Chamber at the International Criminal Court\, and a Special Advisor to the Danish Foreign Ministry in matters related to the International Criminal Court. Among other appointments\, he is a co-Principal of specialised space law firm Azimuth Advisory\, a Member of the World Economic Forum (WEF) Global Future Council on the Future of Space\, a Member of the Abu Dhabi Space Debate Strategy Council\, an Honorary Director of the International Institute of Space Law (IISL)\, a Member of the Advisory Board of the Space Generation Advisory Council (SGAC)\, a Member of the Advisory Board of the Karman Foundation and a Member of the Space Law Committee of the International Law Association. In 2022\, he was presented with a ‘Lifetime Achievement Award’ by the International Institute of Space Law\, the highest accolade awarded by that institution. In addition to co-Editing the Annotated Leading Cases of International Criminal Tribunals book series\, he also sits on the Editorial Board / Advisory Board of several internationally recognised academic journals. \nProgram: \n\nWelcome drink (6.00pm – 6.30pm)\nAcknowledgement of Country and introduction to Moon Day and Speaker (6.30pm – 6.40pm) – Brian Falzon\nScreening of ‘Moonrise’ (6.40pm – 7.00 pm)\nLecture by invited Speaker\, Emeritus Professor of International Law\, Steven Freeland:\n“Star Laws: A New Hope for Space Governance” (7.00-7.45pm)\nVote of thanks & Q & A (7.45pm – 8.00 pm) – Catherine Renshaw\nDrinks/canapes/networking (8.00pm – 9.00pm)\nCarriages (9.00pm).
URL:https://internationalmoonday.org/event/star-laws-a-new-hope-for-space-governance/
LOCATION:Western Sydney University\, Australia\, 6 Hassall St\, Parramatta\, NSW 2150\, Australia
CATEGORIES:In Person
ATTACH;FMTTYPE=image/webp:https://internationalmoonday.org/wp-content/uploads/2025/07/Star-Laws-A-New-Hope-for-Space-Governance-Poster-Website.webp
GEO:-33.817717009513;151.00769172447
X-APPLE-STRUCTURED-LOCATION;VALUE=URI;X-ADDRESS=Western Sydney University Australia 6 Hassall St Parramatta NSW 2150 Australia;X-APPLE-RADIUS=500;X-TITLE=6 Hassall St:geo:151.00769172447,-33.817717009513
END:VEVENT
END:VCALENDAR