BEGIN:VCALENDAR
VERSION:2.0
PRODID:-//International Moon Day - ECPv6.15.20//NONSGML v1.0//EN
CALSCALE:GREGORIAN
METHOD:PUBLISH
X-ORIGINAL-URL:https://internationalmoonday.org
X-WR-CALDESC:Events for International Moon Day
REFRESH-INTERVAL;VALUE=DURATION:PT1H
X-Robots-Tag:noindex
X-PUBLISHED-TTL:PT1H
BEGIN:VTIMEZONE
TZID:UTC
BEGIN:STANDARD
TZOFFSETFROM:+0000
TZOFFSETTO:+0000
TZNAME:UTC
DTSTART:20240101T000000
END:STANDARD
END:VTIMEZONE
BEGIN:VEVENT
DTSTART;TZID=UTC:20250726T083000
DTEND;TZID=UTC:20250726T120000
DTSTAMP:20260421T102455
CREATED:20250707T090951Z
LAST-MODIFIED:20250710T125624Z
UID:10000214-1753518600-1753531200@internationalmoonday.org
SUMMARY:Adapting Lunar and Martian Soil for Plant Growth
DESCRIPTION:Transforming lunar and Martian soil for agriculture is essential for sustainable space exploration. Lunar regolith lacks organic matter and nitrogen\, while Martian soil contains toxic perchlorates. Key strategies include enriching soils with fertilizers\, removing toxins (e.g.\, washing perchlorates)\, and introducing microbes to enhance nutrient cycling. Hydroponics and genetic engineering may supplement traditional methods. Experiments with simulants show promise\, but challenges like low gravity\, radiation\, and soil structure remain. Overcoming these barriers could enable future colonies to grow crops\, reducing reliance on Earth. Research continues to optimize plant growth in extraterrestrial environments. To this end\, Sichuan University will organize in-person talks on this topic.
URL:https://internationalmoonday.org/event/adapting-lunar-and-martian-soil-for-plant-growth/
LOCATION:Sichuan University\, China\, Sichuan\, China
CATEGORIES:In Person
GEO:30.66398243193;104.07110782617
END:VEVENT
END:VCALENDAR