BEGIN:VCALENDAR
VERSION:2.0
PRODID:-//International Moon Day - ECPv6.15.20//NONSGML v1.0//EN
CALSCALE:GREGORIAN
METHOD:PUBLISH
X-WR-CALNAME:International Moon Day
X-ORIGINAL-URL:https://internationalmoonday.org
X-WR-CALDESC:Events for International Moon Day
REFRESH-INTERVAL;VALUE=DURATION:PT1H
X-Robots-Tag:noindex
X-PUBLISHED-TTL:PT1H
BEGIN:VTIMEZONE
TZID:UTC
BEGIN:STANDARD
TZOFFSETFROM:+0000
TZOFFSETTO:+0000
TZNAME:UTC
DTSTART:20220101T000000
END:STANDARD
END:VTIMEZONE
BEGIN:VEVENT
DTSTART;TZID=UTC:20230720T080000
DTEND;TZID=UTC:20230722T170000
DTSTAMP:20260422T021057
CREATED:20230717T113829Z
LAST-MODIFIED:20230717T113830Z
UID:10000123-1689840000-1690045200@internationalmoonday.org
SUMMARY:IMD 2023 South Asia Region Event - Nepal
DESCRIPTION:The Moon is the brightest object in our night sky\, the second brightest in our daytime sky\, and can be seen from all around the world. A first-quarter Moon is great for evening observing as it rises in the afternoon and is high above the horizon in the evening. The Moon Village Association team in the South Asian Region will host moon observation night in different cities of Asia like Mumbai\,Tamil Nadu\, Bengaluru\, Kerala\, Pokhara\, Lahore\, and Karachi in collaboration with local organizations and sponsors to create awareness among students and young professionals on the importance of Moon. \n\n\n\n\n\n\n\nRegister\n\n\n\n\nRegistration Form
URL:https://internationalmoonday.org/event/imd-2023-south-asia-region-event-nepal/
LOCATION:Nepal – Online\, Nepal
CATEGORIES:Hybrid
ATTACH;FMTTYPE=image/png:https://internationalmoonday.org/wp-content/uploads/2023/06/Screenshot-2023-07-17-121748.png
GEO:28.394857;84.124008
END:VEVENT
END:VCALENDAR