BEGIN:VCALENDAR
VERSION:2.0
PRODID:-//International Moon Day - ECPv6.15.20//NONSGML v1.0//EN
CALSCALE:GREGORIAN
METHOD:PUBLISH
X-WR-CALNAME:International Moon Day
X-ORIGINAL-URL:https://internationalmoonday.org
X-WR-CALDESC:Events for International Moon Day
REFRESH-INTERVAL;VALUE=DURATION:PT1H
X-Robots-Tag:noindex
X-PUBLISHED-TTL:PT1H
BEGIN:VTIMEZONE
TZID:Europe/Helsinki
BEGIN:DAYLIGHT
TZOFFSETFROM:+0200
TZOFFSETTO:+0300
TZNAME:EEST
DTSTART:20240331T010000
END:DAYLIGHT
BEGIN:STANDARD
TZOFFSETFROM:+0300
TZOFFSETTO:+0200
TZNAME:EET
DTSTART:20241027T010000
END:STANDARD
BEGIN:DAYLIGHT
TZOFFSETFROM:+0200
TZOFFSETTO:+0300
TZNAME:EEST
DTSTART:20250330T010000
END:DAYLIGHT
BEGIN:STANDARD
TZOFFSETFROM:+0300
TZOFFSETTO:+0200
TZNAME:EET
DTSTART:20251026T010000
END:STANDARD
BEGIN:DAYLIGHT
TZOFFSETFROM:+0200
TZOFFSETTO:+0300
TZNAME:EEST
DTSTART:20260329T010000
END:DAYLIGHT
BEGIN:STANDARD
TZOFFSETFROM:+0300
TZOFFSETTO:+0200
TZNAME:EET
DTSTART:20261025T010000
END:STANDARD
END:VTIMEZONE
BEGIN:VEVENT
DTSTART;TZID=Europe/Helsinki:20250926T163000
DTEND;TZID=Europe/Helsinki:20250926T180000
DTSTAMP:20260422T024613
CREATED:20250811T071456Z
LAST-MODIFIED:20250811T082545Z
UID:10000252-1758904200-1758909600@internationalmoonday.org
SUMMARY:100 Years from the Moon Landing to a Cislunar City
DESCRIPTION:International Moon Day is an opportunity to recognize the central role the Moon has played and continues to play in the history of space exploration. A symbol of cosmic proximity and technological challenge\, the Moon has represented a point of reference for humanity for millennia. Today\, between the memory of historic landings and ambitious future plans\, this anniversary renews the scientific community’s commitment to a new era of lunar exploration. As in 1969\, every extraordinary journey begins with a simple step. \nTen years ago in July\, the Center for Near Space of the Italian Institute for the Future was founded with the aim of spreading Space Culture\, supporting the development of Civil Astronautics\, and fostering the growth of the Private User Community. The launch of conceptual studies of orbital architecture with its OrbiTecture team soon evolved into the pioneering studies of the Cislunar City\, in the belief that the scientific enterprise of space exploration is rapidly evolving toward a permanent human presence in space. \nOn this basis and with these elements\, the session “100 YEARS FROM THE MOON LANDING TO A CISLUNAR CITY” aims\, on the one hand\, to celebrate man’s first step on the moon as humanity’s first step off Earth\, and on the other\, to project forward a century later\, when the stable existence of a community of approximately 1\,000 people in a dozen “neighborhoods” located between low Earth orbit and the Moon\, both orbit and surface\, will be possible and probable.The prospect of the emergence of the Cislunar City and its long-term configuration as a coordinated community\, not subordinated to terrestrial power centers\, requires a radical rethinking of the legal paradigm applicable to it. The purely geocentric perspective that informs the spirit of current regulations is proving increasingly inadequate to meet the needs of an autonomous\, stable\, and structured community in space. It is therefore appropriate\, if not necessary\, to establish a normative paradigm that goes beyond the limits of traditional international law to develop a space law for space\, conceived in light of the environmental\, social\, and operational specificities of the cislunar context.
URL:https://internationalmoonday.org/event/100-years-from-the-moon-landing-to-a-cislunar-city/
LOCATION:Napoli\, Italy\, Naples\, Italy
CATEGORIES:In Person
ATTACH;FMTTYPE=image/png:https://internationalmoonday.org/wp-content/uploads/2025/08/Immagine2.png
GEO:40.852155151418;14.268155519237
END:VEVENT
END:VCALENDAR