BEGIN:VCALENDAR
VERSION:2.0
PRODID:-//International Moon Day - ECPv6.15.20//NONSGML v1.0//EN
CALSCALE:GREGORIAN
METHOD:PUBLISH
X-ORIGINAL-URL:https://internationalmoonday.org
X-WR-CALDESC:Events for International Moon Day
REFRESH-INTERVAL;VALUE=DURATION:PT1H
X-Robots-Tag:noindex
X-PUBLISHED-TTL:PT1H
BEGIN:VTIMEZONE
TZID:UTC
BEGIN:STANDARD
TZOFFSETFROM:+0000
TZOFFSETTO:+0000
TZNAME:UTC
DTSTART:20240101T000000
END:STANDARD
END:VTIMEZONE
BEGIN:VEVENT
DTSTART;TZID=UTC:20251010T100000
DTEND;TZID=UTC:20251010T130000
DTSTAMP:20260421T085155
CREATED:20251009T081601Z
LAST-MODIFIED:20251009T081602Z
UID:10000261-1760090400-1760101200@internationalmoonday.org
SUMMARY:"From the International Space Station to the Lunar Space Station: Italy's Key Role and Opportunities for Latin America"
DESCRIPTION:Participation in the WSW is part of IILA’s initiatives in the field of science and space diplomacy\, including the noteworthy “Meeting of Space Agencies of IILA Member Countries\,” now in its fourth year\, and the project to build the first satellite mission by two IILA countries\, Panama and the Dominican Republic. It offers an opportunity to explore humanity’s journey to live sustainably and long-lastingly\, first in orbit and then on the lunar surface\, aiming one day to reach Mars. This journey\, through the use of innovative technologies that seek to make space a safe habitat\, with careful attention to astronauts’ needs and comfort\, allows them to face and overcome increasingly challenging challenges\, bringing to reality scenarios that were only a dream until recently. Space technologies have also opened up possibilities for a more sustainable future on our planet\, with positive implications for Latin American countries as well.
URL:https://internationalmoonday.org/event/from-the-international-space-station-to-the-lunar-space-station-italys-key-role-and-opportunities-for-latin-america/
LOCATION:Italy\, Rome\, Rome\, Italy
CATEGORIES:Hybrid
ATTACH;FMTTYPE=image/jpeg:https://internationalmoonday.org/wp-content/uploads/2025/10/IILA-WSW-2025-.jpg
ORGANIZER;CN="Organizzazione Internazionale Italo-Latino Americana IILA":MAILTO:s.tecnicoscientifica@iila.org
GEO:41.9027835;12.4963655
END:VEVENT
END:VCALENDAR