BEGIN:VCALENDAR
VERSION:2.0
PRODID:-//International Moon Day - ECPv6.15.20//NONSGML v1.0//EN
CALSCALE:GREGORIAN
METHOD:PUBLISH
X-ORIGINAL-URL:https://internationalmoonday.org
X-WR-CALDESC:Events for International Moon Day
REFRESH-INTERVAL;VALUE=DURATION:PT1H
X-Robots-Tag:noindex
X-PUBLISHED-TTL:PT1H
BEGIN:VTIMEZONE
TZID:Europe/Helsinki
BEGIN:DAYLIGHT
TZOFFSETFROM:+0200
TZOFFSETTO:+0300
TZNAME:EEST
DTSTART:20240331T010000
END:DAYLIGHT
BEGIN:STANDARD
TZOFFSETFROM:+0300
TZOFFSETTO:+0200
TZNAME:EET
DTSTART:20241027T010000
END:STANDARD
BEGIN:DAYLIGHT
TZOFFSETFROM:+0200
TZOFFSETTO:+0300
TZNAME:EEST
DTSTART:20250330T010000
END:DAYLIGHT
BEGIN:STANDARD
TZOFFSETFROM:+0300
TZOFFSETTO:+0200
TZNAME:EET
DTSTART:20251026T010000
END:STANDARD
BEGIN:DAYLIGHT
TZOFFSETFROM:+0200
TZOFFSETTO:+0300
TZNAME:EEST
DTSTART:20260329T010000
END:DAYLIGHT
BEGIN:STANDARD
TZOFFSETFROM:+0300
TZOFFSETTO:+0200
TZNAME:EET
DTSTART:20261025T010000
END:STANDARD
END:VTIMEZONE
BEGIN:VTIMEZONE
TZID:UTC
BEGIN:STANDARD
TZOFFSETFROM:+0000
TZOFFSETTO:+0000
TZNAME:UTC
DTSTART:20230101T000000
END:STANDARD
END:VTIMEZONE
BEGIN:VEVENT
DTSTART;TZID=Europe/Helsinki:20250722T180000
DTEND;TZID=Europe/Helsinki:20250722T213000
DTSTAMP:20260421T150642
CREATED:20250714T080714Z
LAST-MODIFIED:20250714T080715Z
UID:10000222-1753207200-1753219800@internationalmoonday.org
SUMMARY:Mezinárodní den Měsíce 2025 – Měsíc jako symbol poznání a velkých výzev
DESCRIPTION:ENGLISH TEXT BELOW\nMezinárodní den Měsíce (schválený organizací OSN) je každoroční událost\, která se koná pro širokou veřejnost a slaví se okolo 20. července. Na tento den totiž připadá výročí prvního přistání člověka na Měsíci\, které v roce 1969 uskutečnila posádka americké kosmické mise Apollo 11. Tento den je zároveň oslavou neutuchající fascinace lidstva Měsícem – naším nejbližším nebeským sousedem a symbolem objevů. Měsíc vždy vzbuzoval zvědavost a ambice\, od starověkých mýtů až po přistání v programu Apollo a budoucí lunární mise. S Hvězdárnou a planetáriem Brno můžete být opět u toho! \nPřednášky a následná panelová diskuse v sále velkého planetária (189 míst k sezení): \nMgr. Pavel GabzdylHvězdárna a planetárium BrnoHvězdáři bez Měsíce \nDnešní astronomové se Měsíci často vyhýbají – ruší pozorování a nezapadá do jejich výzkumných plánů. Přesto to byl právě Měsíc\, který po staletí utvářel naše poznání vesmíru. Od prvních pokusů změřit vzdálenosti ve vesmíru\, přes potvrzení Einsteinovy teorie relativity až po naděje spojené s budoucím výzkumem. Přednáška nabídne pohled na roli Měsíce v dějinách astronomie a výzkumu Sluneční soustavy. \nIng. Tomáš Přibylpopularizátor kosmonautikyNový malý krok \nPět z šesti obyvatel této planety se narodilo po roce 1969 a nezažilo tak legendární dobytí Měsíce Apollem 11. Nyní ale mají šanci být svědky zopakování této historické události\, protože návrat člověka na naši přirozenou družici se uskuteční ještě v této dekádě. Bude ale ve znamení vlajky americké\, nebo čínské? Jaký je „letový řád“ pilotovaných letů na Měsíc\, jak bude vypadat technika pro jejich realizaci\, kdo všechno je do přípravy „nového malého kroku“ zapojený? Mnoho otázek\, mnoho – často překvapivých – odpovědí. \nMgr. Petr Brož\, Ph.D.Geofyzikální ústav AV ČRMěsíc očima geologa \nCo všechno víme o vzniku a vývoji Měsíce? A jak to víme? Co nám prozradily vzorky\, které přivezli astronauti Apolla a některé sondy? Proč je přivrácená a odvrácená strana Měsíce tak rozdílná? Je dnes Měsíc geologicky mrtvým tělesem\, nebo se tam stále něco děje? A jaké další otázky ve výzkumu Měsíce zůstávají stále bez odpovědi a jak na ně najdeme odpovědi? Na to se společně podíváme v rámci povídání věnované geologii Měsíce! \nA pozor\, na závěr Mezinárodní dne Měsíce 2025 si promítneme fulldome projekci s názvem Vzhůru na Měsíc! (česky\, délka 26 minut). \n——————————- \nENGLISH\nInternational Moon Day (approved by the UN) is an annual event held for the general public and celebrated around July 20. This day marks the anniversary of the first human landing on the Moon\, which was carried out in 1969 by the crew of the American space mission Apollo 11. This day is also a celebration of humanity’s unceasing fascination with the Moon – our closest celestial neighbor and a symbol of discovery. The Moon has always aroused curiosity and ambition\, from ancient myths to the Apollo landings and future lunar missions. With the Brno Observatory and Planetarium\, you can be there again! \nLectures and subsequent panel discussion in the large planetarium hall (189 seats): \nMgr. Pavel GabzdylBrno Observatory and PlanetariumObservatories without the Moon \nToday’s astronomers often avoid the Moon – it interferes with observations and does not fit into their research plans. Yet it was the Moon that shaped our understanding of the universe for centuries. From the first attempts to measure distances in space\, through the confirmation of Einstein’s theory of relativity\, to the hopes associated with future research. The lecture will offer a look at the role of the Moon in the history of astronomy and research into the Solar System. \nIng. Tomáš Přibylpopularizer of space explorationA new small step \nFive out of six inhabitants of this planet were born after 1969 and did not experience the legendary conquest of the Moon by Apollo 11. But now they have the chance to witness a repetition of this historical event\, because the return of man to our natural satellite will take place later this decade. But will it be under the sign of the American or Chinese flag? What is the “flight schedule” of manned flights to the Moon\, what will the technology for their implementation look like\, who is involved in the preparation of the “new small step”? Many questions\, many – often surprising – answers. \nMgr. Petr Brož\, Ph.D.Institute of Geophysics of the Academy of Sciences of the Czech RepublicThe Moon through the Eyes of a Geologist \nWhat do we know about the origin and evolution of the Moon? And how do we know it? What did the samples brought back by the Apollo astronauts and some probes reveal to us? Why are the near and far sides of the Moon so different? Is the Moon a geologically dead body today\, or is something still happening there? And what other questions in lunar research still remain unanswered and how can we find answers to them? We will look at this together as part of a talk dedicated to the geology of the Moon! \nAnd be careful\, at the end of International Moon Day 2025\, we will screen a fulldome projection called Up to the Moon! (in Czech\, duration 26 minutes).
URL:https://internationalmoonday.org/event/mezinarodni-den-mesice-2025-mesic-jako-symbol-poznani-a-velkych-vyzev/
LOCATION:Brno Observatory and Planetarium\, Czech Republic\, Brno\, Czech Republic
CATEGORIES:In Person
ATTACH;FMTTYPE=image/jpeg:https://internationalmoonday.org/wp-content/uploads/2025/07/510388317_1119315303575381_8642846779362620014_n.jpg
GEO:49.204702326709;16.583721201851
END:VEVENT
BEGIN:VEVENT
DTSTART;TZID=UTC:20240716T080000
DTEND;TZID=UTC:20240716T170000
DTSTAMP:20260421T150642
CREATED:20240827T123512Z
LAST-MODIFIED:20240827T123514Z
UID:10000184-1721116800-1721149200@internationalmoonday.org
SUMMARY:International Moon Day at Brno Observatory and Planetarium
DESCRIPTION:A series of lectures devoted to the geology of the Moon\, the extraction of raw materials on it and its research. Complemented by a film screening and an exhibition (inflatable moon).
URL:https://internationalmoonday.org/event/international-moon-day-at-brno-observatory-and-planetarium/
LOCATION:Brno Observatory and Planetarium\, Czech Republic\, Brno\, Czech Republic
ATTACH;FMTTYPE=image/png:https://internationalmoonday.org/wp-content/uploads/2024/08/Brno-Czech.png
GEO:49.204702326709;16.583721201851
END:VEVENT
BEGIN:VEVENT
DTSTART;TZID=UTC:20240716T080000
DTEND;TZID=UTC:20240716T170000
DTSTAMP:20260421T150642
CREATED:20240611T141508Z
LAST-MODIFIED:20240611T141538Z
UID:10000157-1721116800-1721149200@internationalmoonday.org
SUMMARY:International Moon Day 2024
DESCRIPTION:A series of lectures devoted to the geology of the Moon\, the extraction of raw materials on it and its research. Complemented by a film screening and an exhibition (inflatable moon).
URL:https://internationalmoonday.org/event/international-moon-day-2024-brno/
LOCATION:Brno Observatory and Planetarium\, Czech Republic\, Brno\, Czech Republic
CATEGORIES:In Person
ATTACH;FMTTYPE=image/gif:https://internationalmoonday.org/wp-content/uploads/2024/06/ez-flag.gif
GEO:49.204702326709;16.583721201851
END:VEVENT
END:VCALENDAR