BEGIN:VCALENDAR
VERSION:2.0
PRODID:-//International Moon Day - ECPv6.15.20//NONSGML v1.0//EN
CALSCALE:GREGORIAN
METHOD:PUBLISH
X-WR-CALNAME:International Moon Day
X-ORIGINAL-URL:https://internationalmoonday.org
X-WR-CALDESC:Events for International Moon Day
REFRESH-INTERVAL;VALUE=DURATION:PT1H
X-Robots-Tag:noindex
X-PUBLISHED-TTL:PT1H
BEGIN:VTIMEZONE
TZID:UTC
BEGIN:STANDARD
TZOFFSETFROM:+0000
TZOFFSETTO:+0000
TZNAME:UTC
DTSTART:20220101T000000
END:STANDARD
END:VTIMEZONE
BEGIN:VTIMEZONE
TZID:America/New_York
BEGIN:DAYLIGHT
TZOFFSETFROM:-0500
TZOFFSETTO:-0400
TZNAME:EDT
DTSTART:20220313T070000
END:DAYLIGHT
BEGIN:STANDARD
TZOFFSETFROM:-0400
TZOFFSETTO:-0500
TZNAME:EST
DTSTART:20221106T060000
END:STANDARD
BEGIN:DAYLIGHT
TZOFFSETFROM:-0500
TZOFFSETTO:-0400
TZNAME:EDT
DTSTART:20230312T070000
END:DAYLIGHT
BEGIN:STANDARD
TZOFFSETFROM:-0400
TZOFFSETTO:-0500
TZNAME:EST
DTSTART:20231105T060000
END:STANDARD
BEGIN:DAYLIGHT
TZOFFSETFROM:-0500
TZOFFSETTO:-0400
TZNAME:EDT
DTSTART:20240310T070000
END:DAYLIGHT
BEGIN:STANDARD
TZOFFSETFROM:-0400
TZOFFSETTO:-0500
TZNAME:EST
DTSTART:20241103T060000
END:STANDARD
END:VTIMEZONE
BEGIN:VEVENT
DTSTART;TZID=UTC:20230708T080000
DTEND;TZID=UTC:20230720T170000
DTSTAMP:20260421T132215
CREATED:20230531T112140Z
LAST-MODIFIED:20230629T181311Z
UID:10000067-1688803200-1689872400@internationalmoonday.org
SUMMARY:IMD Preparatory Event - Future opportunities right to Moon exploration (FOR ME) 2023
DESCRIPTION:Future opportunities right to moon exploration (FOR ME)\n\n\n\nFOR ME consists of an event where we will cover the potential opportunities of lunar exploration with the motto of “equality\, innovation\, and sustainability in coordination” in line with the “Beginning the New Lunar Journey for Humanity” theme determined for the International Lunar Day 2023. \n\n\n\n\nEquality : Emphasis is placed on the importance of human equality in the space age\, from disadvantaged groups in society to countries that have not completed their development in the international community. Suggestions are made to increase participation and interest in this subject.\n\n\n\nInnovation : In addition to the more traditional elements that satisfy us such as nature\, environment\, camping\, space\, and the Moon\, we step into the world of Metaverse\, such innovative technologies are included in the project and even the photography exhibition is integrated into these developments. The virtual exhibition in the Metaverse environment and the transfer of photographs to the NFT environment exemplify this integration.\n\n\n\nSustainability : Emphasis is placed on the necessity of sustaining the paths pursued in space – and especially lunar – activities. If sustainable work can be achieved in lunar studies\, it will be tried to facilitate the discoveries that can be made farther. Sustainable development is also emphasized while evaluating the opportunities that can be offered by the exploration of the lunar facilities regarding the earth and lunar life.\n\n\n\n\nIn the first part\, we will organize a space camp. One of the projects we plan to carry out as Altair Association is ASOR: Altair Space Observation and Research Projects. And activities such as observation and astrophotography will already be carried out within the scope of this project. Again\, as Altair\, we attach great importance to raising awareness about International Moon Day and space activities. For this reason\, it will make us very happy to dedicate one of our events to the International Moon Day as part of ASOR. \n\n\n\nOur camp day will start on the morning of July 15 and end on July 16. There will be social activities\, nature walks\, games and competitions throughout the camp\, as well as a conversation with our special guests by the fire on the evening of July 15. Space and moon observations will be made from the time of the moonrise\, and space photographs will be taken that include the Moon in its composition. \n\n\n\nDuring the “ASOR Lunar Camp 2023 – 2nd Moon Day Special” event\, both space observations and Moon photographs will be taken. The importance of the Moon for the Earth will be explained with the emphasis on equality\, innovation\, and sustainability through guest trainers. \n\n\n\nOur camp event\, which we tested ourselves by holding a quota of 15 people last year\, is planned to be held with a participation quota of 100 people this year. Professional shootings including the use of drone\, gymbal and similar equipment will be made from the beginning to the end of the camp\, and a behind-the-scenes documentary of the camp event will also be shot and broadcast. \n\n\n\nAnd the photos to be taken at the event can be exhibited both in the physical and metaverse environment and sold as NFT. The photographs can be exhibited at the entrance of the FOR ME event hall when the FOR ME project presented to MVA by the Altair Association is realized. \n\n\n\nThis event will contribute to space observation activities\, which are not organized much in our country\, and will facilitate learning about the International Moon Day\, which has never been heard of in our country\, by exhibiting the Moon photographs to be taken in various environments. And if we succeed in attracting participants from disadvantaged groups\, we will also place a very important emphasis on equality in space studies. \n\n\n\nAfter the Camp\, a webinar will be held with 1 or 2 speaker on “Metaverse” through Metaverse and its definitions\, law\, platforms\, opportunities\, and the future expectations on July 20\, \n\n\n\nDuring the actual day of IMD\, the Metaverse exhibition and the physical exhibition will be opened as the closing event\, and the photographs taken at the camp will be included in our NFT collection with the signatures of the photographers on July 20. \n\n\n\nThe target audience of this event is everyone aged 18 and over who is interested in space\, especially young professionals.  \n\n\n\nSince astrophotography\, and space studies do not receive enough attention in our country\, this event is important to increase the interest in these fields and raise awareness. On this occasion\, the introduction of the International Moon Day will also be possible. \n\n\n\nWhile our sponsorship negotiations continue\, a sponsor and a strategic partner have been identified so far. With other sponsorships to come\, the event will be improved in terms of infrastructure\, equipment and other organizational aspects.
URL:https://internationalmoonday.org/event/future-opportunities-right-to-moon-exploration-for-me-2023/
LOCATION:Türkiye\, Turkey
CATEGORIES:Hybrid
ATTACH;FMTTYPE=image/gif:https://internationalmoonday.org/wp-content/uploads/2023/05/tu-flag.gif
GEO:38.963745;35.243322
END:VEVENT
BEGIN:VEVENT
DTSTART;TZID=America/New_York:20230720T210000
DTEND;TZID=America/New_York:20230720T220000
DTSTAMP:20260421T132215
CREATED:20230624T142731Z
LAST-MODIFIED:20230624T142821Z
UID:10000092-1689886800-1689890400@internationalmoonday.org
SUMMARY:What will a Lunar settlement look like in 50 years if we start now? - Türkiye
DESCRIPTION:Time (Türkiye): Pending \n\n\n\nThe Moon Society\, in partnership with Moonbase Lappträsk Foundation and Lunar Homestead\, is hosting an online event for International Moon Day. And you’re invited!  \n\n\n\nThis will be an open Zoom meeting where anyone attending can talk about how they see Lunar settlement playing out in the next 50 years. All ideas and visions are welcome! Courtesy is mandatory however. \n\n\n\nDate: July 20\, 2023Location: Virtual – ZoomCost: FREEWho can attend: ANYONE (there is a limit of 500 attendees)Reservation/Ticket required: NONE – just show up!Times: SEE BELOWLanguages: SEE BELOWTopic: What will a Lunar settlement look like in 50 years if we start now?Do I need a Zoom account to participate?: NO. Visit the website from the link below and follow the instructions \n\n\n\nTimeHostLanguage6-7 pm Pacific / 9-10 pm EasternBen SmithEnglish7-8 pm Central European Summer TimeNiklas JarvstratSwedishPendingCengiz TokluTurkish\n\n\n\n\nEvent website
URL:https://internationalmoonday.org/event/what-will-a-lunar-settlement-look-like-in-50-years-if-we-start-now-turkiye/
LOCATION:Türkiye – Online\, Istanbul\, Turkey
CATEGORIES:Online
ATTACH;FMTTYPE=image/gif:https://internationalmoonday.org/wp-content/uploads/2023/05/tu-flag.gif
GEO:41.0082376;28.9783589
END:VEVENT
BEGIN:VEVENT
DTSTART;TZID=UTC:20250802T000000
DTEND;TZID=UTC:20250803T235959
DTSTAMP:20260421T132215
CREATED:20250714T080417Z
LAST-MODIFIED:20250714T080418Z
UID:10000223-1754092800-1754265599@internationalmoonday.org
SUMMARY:Altair Lunar Camp 4.0
DESCRIPTION:Altair Lunar Camp 4.0 is an immersive camping event where we will celebrate International Moon Day 2025 with the motto of “One Moon\, One Vision\, One Future”\, embracing our core principles of unity\, sustainability\, and fair access for everyone. \nOne Moon: Our camp emphasizes that the Moon is a shared heritage for all humanity. Through telescopic observations and hands-on astrophotography\, participants will feel this universal connection and develop a sense of responsibility to protect and explore the Moon sustainably. \nOne Vision: By bringing together students\, young professionals\, children\, families\, artists\, astronomers\, lawyers\, and anyone interested in space and camping\, we aim to build a community vision for the future of lunar exploration. Informative mini-seminars\, campfire talks\, and competitions will spark curiosity and collaboration across disciplines.One Future: The camp highlights the importance of sustainability in all space and lunar activities. We believe that sharing this vision with new generations will inspire them to turn lunar challenges into opportunities\, ensuring a better future for Earth and beyond. \nHighlights:• Hands-On Observations: Participants will set up tents by the Alpsari Lake (Cankiri\, Turkiye) and spend nights under the stars\, observing the Moon and deep sky objects with telescopes.• Astrophotography Workshop with Mustafa Aydin: One of the camp’s unique highlights will be an astrophotography workshop led by Mustafa Aydın\, an award-winning astrophotographer whose work “Stardust” has officially reached the lunar surface as part of the MoonMars Museum project and now rests in the Mare Crisium region of the Moon carrying humanity’s artistic legacy beyond Earth. Mustafa Aydın will share his experience photographing the night sky in light-pollution-free regions for over a decade\, and participants will learn how to capture the Moon even with a simple smartphone under his guidance.• Community Building: Social activities\, nature walks\, games\, and fireside talks with guest trainers will create a sense of unity and shared responsibility for sustainability.• Photo Exhibition Series: As in previous years\, Moon\, space\, and nature photos taken during the camp will be curated into exhibitions (as a difference\, physical only this year) in different cities\, extending the IMD spirit throughout the year.• Target Audience: Open to youth\, students\, young professionals\, families\, artists\, astronomy and law enthusiasts\, and anyone passionate about space\, nature and camping.• Participation Goal: The camp will host approximately 50 participants to ensure an inclusive and impactful experience.Partners & Support:Altair will organize the camp in collaboration with Stellar Experiences\, with the encouragement of Moon Village Association and UNOOSA\, and with the participation of the Ankara Bar Association Photography Club. Further local partnerships and sponsorships are being explored to strengthen the event’s impact.Post-Camp Impact:In addition to the on-site experience\, we plan to create awareness through:• Social media campaigns on Instagram and LinkedIn using #IMD2025\,• Exhibitions of photos taken during the camp in various public spaces\,• Inspiring new participants to join future space activities and contribute to a “sustainable spatial future”. \nSummary of Details:• Name: Altair Lunar Camp 4.0• Type: Educational\, Scientific\, Cultural• Date: August 2–3\, 2025• Location: Alpsari Lake\, Cankiri\, Turkiye• Format: In-person (camping); future exhibitions will be physical.• Promotion: Social media\, local and nat’l partnerships.
URL:https://internationalmoonday.org/event/altair-lunar-camp-4-0/
LOCATION:Alpsari Lake\, Cankiri\, Turkiye\, Turkey
CATEGORIES:In Person
ATTACH;FMTTYPE=image/jpeg:https://internationalmoonday.org/wp-content/uploads/2025/07/Altair-Lunar-Camp-4.0.jpg
GEO:40.678239510135;33.505076055555
END:VEVENT
END:VCALENDAR