BEGIN:VCALENDAR
VERSION:2.0
PRODID:-//International Moon Day - ECPv6.15.20//NONSGML v1.0//EN
CALSCALE:GREGORIAN
METHOD:PUBLISH
X-ORIGINAL-URL:https://internationalmoonday.org
X-WR-CALDESC:Events for International Moon Day
REFRESH-INTERVAL;VALUE=DURATION:PT1H
X-Robots-Tag:noindex
X-PUBLISHED-TTL:PT1H
BEGIN:VTIMEZONE
TZID:America/Mexico_City
BEGIN:DAYLIGHT
TZOFFSETFROM:-0600
TZOFFSETTO:-0500
TZNAME:CDT
DTSTART:20220403T080000
END:DAYLIGHT
BEGIN:STANDARD
TZOFFSETFROM:-0500
TZOFFSETTO:-0600
TZNAME:CST
DTSTART:20221030T070000
END:STANDARD
END:VTIMEZONE
BEGIN:VTIMEZONE
TZID:Africa/Lagos
BEGIN:STANDARD
TZOFFSETFROM:+0100
TZOFFSETTO:+0100
TZNAME:WAT
DTSTART:20240101T000000
END:STANDARD
END:VTIMEZONE
BEGIN:VTIMEZONE
TZID:Europe/Helsinki
BEGIN:DAYLIGHT
TZOFFSETFROM:+0200
TZOFFSETTO:+0300
TZNAME:EEST
DTSTART:20240331T010000
END:DAYLIGHT
BEGIN:STANDARD
TZOFFSETFROM:+0300
TZOFFSETTO:+0200
TZNAME:EET
DTSTART:20241027T010000
END:STANDARD
BEGIN:DAYLIGHT
TZOFFSETFROM:+0200
TZOFFSETTO:+0300
TZNAME:EEST
DTSTART:20250330T010000
END:DAYLIGHT
BEGIN:STANDARD
TZOFFSETFROM:+0300
TZOFFSETTO:+0200
TZNAME:EET
DTSTART:20251026T010000
END:STANDARD
BEGIN:DAYLIGHT
TZOFFSETFROM:+0200
TZOFFSETTO:+0300
TZNAME:EEST
DTSTART:20260329T010000
END:DAYLIGHT
BEGIN:STANDARD
TZOFFSETFROM:+0300
TZOFFSETTO:+0200
TZNAME:EET
DTSTART:20261025T010000
END:STANDARD
END:VTIMEZONE
BEGIN:VTIMEZONE
TZID:UTC
BEGIN:STANDARD
TZOFFSETFROM:+0000
TZOFFSETTO:+0000
TZNAME:UTC
DTSTART:20240101T000000
END:STANDARD
END:VTIMEZONE
BEGIN:VEVENT
DTSTART;TZID=America/Mexico_City:20230720T200000
DTEND;TZID=America/Mexico_City:20230720T230000
DTSTAMP:20260421T131351
CREATED:20230719T185942Z
LAST-MODIFIED:20230811T073555Z
UID:10000128-1689883200-1689894000@internationalmoonday.org
SUMMARY:Día Internacional de la Luna 2023
DESCRIPTION:We have organised a Stargazing event in which we will be focusing on the Moon. There will be a short conference around this year’s theme\, “Beginning the New Lunar Journey for Humanity” \n\n\n\nThen all participants will have the opportunity to observe the Moonthrough our powerful 8 inch Meade LX-90 telescope \n\n\n\n\n\n\n\n \n\n\n\nPhotos\n\n\n\n\n\n\n\nReport\n\n\n\nSAQROO-International-Moon-Day-2023Download
URL:https://internationalmoonday.org/event/dia-internacional-de-la-luna-2023/
LOCATION:Kantenah\, Quintana Roo\, Mexico\, Kantenah\, Quintana Roo\, Mexico
CATEGORIES:In Person
ATTACH;FMTTYPE=image/gif:https://internationalmoonday.org/wp-content/uploads/2023/07/mx-flag.gif
GEO:20.4480892;-87.281261
END:VEVENT
BEGIN:VEVENT
DTSTART;TZID=Africa/Lagos:20250711T200000
DTEND;TZID=Africa/Lagos:20250711T220000
DTSTAMP:20260421T131351
CREATED:20250707T090733Z
LAST-MODIFIED:20250718T112740Z
UID:10000203-1752264000-1752271200@internationalmoonday.org
SUMMARY:Finding Craters (from Lagos 🇳🇬)
DESCRIPTION:Dive into the wonders of space as we embark on a crater-hunting adventure. Whether you’re a seasoned astronomer or just curious about the cosmos\, this event is all about exploring lunar landscapes\, playing fun stargazing games\, and connecting with fellow sky-watchers.Spot and name craters with telescopes and guided maps.Compete in crater-finding challenges for merch and bragging rights.Share stories and discoveries with a friendly\, welcoming community.Bring your curiosity\, your friends\, and your sense of wonder. Let’s make memories together as we search for the Moon’s hidden treasures!
URL:https://internationalmoonday.org/event/9ja-international-moon-day/
LOCATION:Nigeria – Online\, Nigeria
CATEGORIES:In Person,Online
ATTACH;FMTTYPE=image/jpeg:https://internationalmoonday.org/wp-content/uploads/2025/07/IMG_7493.jpeg
ORGANIZER;CN="spacebarAfrica":MAILTO:https://t.me/SpaceBarAfrica
GEO:9.081999;8.675277
END:VEVENT
BEGIN:VEVENT
DTSTART;TZID=Europe/Helsinki:20250721T100000
DTEND;TZID=Europe/Helsinki:20250721T103000
DTSTAMP:20260421T131351
CREATED:20250707T090204Z
LAST-MODIFIED:20250707T090205Z
UID:10000216-1753092000-1753093800@internationalmoonday.org
SUMMARY:Internationnal MoonDay Connection from ExoSpaceHab Express Moon Base
DESCRIPTION:We performed a moonbase simulation in July and August and on 21th of July our crew commander Pauline ROBLIN will adress collaborators from moon village worldwide\, including with Nanjing Aerospace University and ILEWG. \nThe ExoSpaceHab Express project recreates a small lunar base\, within which it is possible to conduct simulations of space missions with a crew of maximum 4 people. The lunar base houses all the typical areas of the future bases that we could see on the Moon (and in perspective on Mars!): a living area (which includes a small living space\, the personal crew districts and toilets)\, a laboratory area (where to carry out scientific experiments and use the instruments)\, large storage areas for resources\, an area dedicated to sports (since astronauts are required to practice sports for about two hours a day to maintain health in a small area.   At a structural level\, the lunar base consists of an area recreated inside a Weinsberg caravan\, which has been totally transformed\, and an inflatable area\, which “embraces” the caravan externally and which doubles its useful volume internally.
URL:https://internationalmoonday.org/event/internationnal-moonday-connection-from-exospacehab-express-moon-base/
LOCATION:France – Online\, France
CATEGORIES:Online
ATTACH;FMTTYPE=image/jpeg:https://internationalmoonday.org/wp-content/uploads/2025/07/IMG-20250610-WA0021.jpg
GEO:46.227638;2.213749
END:VEVENT
BEGIN:VEVENT
DTSTART;TZID=UTC:20250802T000000
DTEND;TZID=UTC:20250803T235959
DTSTAMP:20260421T131351
CREATED:20250714T080417Z
LAST-MODIFIED:20250714T080418Z
UID:10000223-1754092800-1754265599@internationalmoonday.org
SUMMARY:Altair Lunar Camp 4.0
DESCRIPTION:Altair Lunar Camp 4.0 is an immersive camping event where we will celebrate International Moon Day 2025 with the motto of “One Moon\, One Vision\, One Future”\, embracing our core principles of unity\, sustainability\, and fair access for everyone. \nOne Moon: Our camp emphasizes that the Moon is a shared heritage for all humanity. Through telescopic observations and hands-on astrophotography\, participants will feel this universal connection and develop a sense of responsibility to protect and explore the Moon sustainably. \nOne Vision: By bringing together students\, young professionals\, children\, families\, artists\, astronomers\, lawyers\, and anyone interested in space and camping\, we aim to build a community vision for the future of lunar exploration. Informative mini-seminars\, campfire talks\, and competitions will spark curiosity and collaboration across disciplines.One Future: The camp highlights the importance of sustainability in all space and lunar activities. We believe that sharing this vision with new generations will inspire them to turn lunar challenges into opportunities\, ensuring a better future for Earth and beyond. \nHighlights:• Hands-On Observations: Participants will set up tents by the Alpsari Lake (Cankiri\, Turkiye) and spend nights under the stars\, observing the Moon and deep sky objects with telescopes.• Astrophotography Workshop with Mustafa Aydin: One of the camp’s unique highlights will be an astrophotography workshop led by Mustafa Aydın\, an award-winning astrophotographer whose work “Stardust” has officially reached the lunar surface as part of the MoonMars Museum project and now rests in the Mare Crisium region of the Moon carrying humanity’s artistic legacy beyond Earth. Mustafa Aydın will share his experience photographing the night sky in light-pollution-free regions for over a decade\, and participants will learn how to capture the Moon even with a simple smartphone under his guidance.• Community Building: Social activities\, nature walks\, games\, and fireside talks with guest trainers will create a sense of unity and shared responsibility for sustainability.• Photo Exhibition Series: As in previous years\, Moon\, space\, and nature photos taken during the camp will be curated into exhibitions (as a difference\, physical only this year) in different cities\, extending the IMD spirit throughout the year.• Target Audience: Open to youth\, students\, young professionals\, families\, artists\, astronomy and law enthusiasts\, and anyone passionate about space\, nature and camping.• Participation Goal: The camp will host approximately 50 participants to ensure an inclusive and impactful experience.Partners & Support:Altair will organize the camp in collaboration with Stellar Experiences\, with the encouragement of Moon Village Association and UNOOSA\, and with the participation of the Ankara Bar Association Photography Club. Further local partnerships and sponsorships are being explored to strengthen the event’s impact.Post-Camp Impact:In addition to the on-site experience\, we plan to create awareness through:• Social media campaigns on Instagram and LinkedIn using #IMD2025\,• Exhibitions of photos taken during the camp in various public spaces\,• Inspiring new participants to join future space activities and contribute to a “sustainable spatial future”. \nSummary of Details:• Name: Altair Lunar Camp 4.0• Type: Educational\, Scientific\, Cultural• Date: August 2–3\, 2025• Location: Alpsari Lake\, Cankiri\, Turkiye• Format: In-person (camping); future exhibitions will be physical.• Promotion: Social media\, local and nat’l partnerships.
URL:https://internationalmoonday.org/event/altair-lunar-camp-4-0/
LOCATION:Alpsari Lake\, Cankiri\, Turkiye\, Turkey
CATEGORIES:In Person
ATTACH;FMTTYPE=image/jpeg:https://internationalmoonday.org/wp-content/uploads/2025/07/Altair-Lunar-Camp-4.0.jpg
GEO:40.678239510135;33.505076055555
END:VEVENT
END:VCALENDAR