BEGIN:VCALENDAR
VERSION:2.0
PRODID:-//International Moon Day - ECPv6.15.20//NONSGML v1.0//EN
CALSCALE:GREGORIAN
METHOD:PUBLISH
X-ORIGINAL-URL:https://internationalmoonday.org
X-WR-CALDESC:Events for International Moon Day
REFRESH-INTERVAL;VALUE=DURATION:PT1H
X-Robots-Tag:noindex
X-PUBLISHED-TTL:PT1H
BEGIN:VTIMEZONE
TZID:Asia/Kolkata
BEGIN:STANDARD
TZOFFSETFROM:+0530
TZOFFSETTO:+0530
TZNAME:IST
DTSTART:20240101T000000
END:STANDARD
END:VTIMEZONE
BEGIN:VEVENT
DTSTART;TZID=Asia/Kolkata:20250724T103000
DTEND;TZID=Asia/Kolkata:20250724T130000
DTSTAMP:20260421T185954
CREATED:20250718T111110Z
LAST-MODIFIED:20250718T111111Z
UID:10000233-1753353000-1753362000@internationalmoonday.org
SUMMARY:Student Seminar: Possibilities of closed systems with soil adaptions towards plant growth on Moon
DESCRIPTION:This is a student seminar for senior school students. \nTransforming lunar soil is essential for sustainable moon colonization and future space exploration. In this seminar students need to present their own ideas backed with appropriate science and authenticated data. Key strategies and challenges to overcome needs to be highlighted.  \nEach student needs to present separately. \nPPT slides may be used.\nMaximum time per student presentation is 8 min + 2 min for QA
URL:https://internationalmoonday.org/event/student-seminar-possibilities-of-closed-systems-with-soil-adaptions-towards-plant-growth-on-moon/
LOCATION:Regional Science Centre and Planetarium\, Calicut\, Kerala\, India\, Jafferkhan Colony\, Calicut\, Kerala\, 673006\, India
CATEGORIES:In Person
GEO:11.263266681925;75.785656407978
END:VEVENT
END:VCALENDAR