BEGIN:VCALENDAR
VERSION:2.0
PRODID:-//International Moon Day - ECPv6.15.20//NONSGML v1.0//EN
CALSCALE:GREGORIAN
METHOD:PUBLISH
X-WR-CALNAME:International Moon Day
X-ORIGINAL-URL:https://internationalmoonday.org
X-WR-CALDESC:Events for International Moon Day
REFRESH-INTERVAL;VALUE=DURATION:PT1H
X-Robots-Tag:noindex
X-PUBLISHED-TTL:PT1H
BEGIN:VTIMEZONE
TZID:Asia/Tokyo
BEGIN:STANDARD
TZOFFSETFROM:+0900
TZOFFSETTO:+0900
TZNAME:JST
DTSTART:20240101T000000
END:STANDARD
END:VTIMEZONE
BEGIN:VEVENT
DTSTART;TZID=Asia/Tokyo:20250720T140000
DTEND;TZID=Asia/Tokyo:20250720T150000
DTSTAMP:20260421T131319
CREATED:20250718T112602Z
LAST-MODIFIED:20250718T112603Z
UID:10000240-1753020000-1753023600@internationalmoonday.org
SUMMARY:ISU SSP25 Sustainable Lunar Infrastructure Team Project Discussion
DESCRIPTION:“What will enable large scale lunar activity?” \nAn online zoom meeting discussion with participants in the ISU SSP25 team project on Sustainable Lunar Infrastructure. This is the early phase of the ISU team project. This is an opportunity for an online discussion of some preliminary ideas. \n1. Eric Dahlstrom and Madhu Thangavelu introduce the Lunar Infrastructure team project. (5 min)\n2. Several participants discuss some of their initial ideas about the project. (20 min)\n3. Open discussion among people online. (30 min)
URL:https://internationalmoonday.org/event/isu-ssp25-sustainable-lunar-infrastructure-team-project-discussion/
LOCATION:Hanyang University ERICA campus\, South Korea\, 55 Hanyangdaehak-ro\, Sangnok-gu\, Gyeonggi-do\, Korea\, Republic of
CATEGORIES:Online
ATTACH;FMTTYPE=image/jpeg:https://internationalmoonday.org/wp-content/uploads/2025/07/ISU-SSP25.jpeg
ORGANIZER;CN="ISU":MAILTO:eric.dahlstrom@community.isunet.edu
END:VEVENT
END:VCALENDAR