BEGIN:VCALENDAR
VERSION:2.0
PRODID:-//International Moon Day - ECPv6.15.20//NONSGML v1.0//EN
CALSCALE:GREGORIAN
METHOD:PUBLISH
X-ORIGINAL-URL:https://internationalmoonday.org
X-WR-CALDESC:Events for International Moon Day
REFRESH-INTERVAL;VALUE=DURATION:PT1H
X-Robots-Tag:noindex
X-PUBLISHED-TTL:PT1H
BEGIN:VTIMEZONE
TZID:Asia/Kolkata
BEGIN:STANDARD
TZOFFSETFROM:+0530
TZOFFSETTO:+0530
TZNAME:IST
DTSTART:20240101T000000
END:STANDARD
END:VTIMEZONE
BEGIN:VTIMEZONE
TZID:Europe/Helsinki
BEGIN:DAYLIGHT
TZOFFSETFROM:+0200
TZOFFSETTO:+0300
TZNAME:EEST
DTSTART:20240331T010000
END:DAYLIGHT
BEGIN:STANDARD
TZOFFSETFROM:+0300
TZOFFSETTO:+0200
TZNAME:EET
DTSTART:20241027T010000
END:STANDARD
BEGIN:DAYLIGHT
TZOFFSETFROM:+0200
TZOFFSETTO:+0300
TZNAME:EEST
DTSTART:20250330T010000
END:DAYLIGHT
BEGIN:STANDARD
TZOFFSETFROM:+0300
TZOFFSETTO:+0200
TZNAME:EET
DTSTART:20251026T010000
END:STANDARD
BEGIN:DAYLIGHT
TZOFFSETFROM:+0200
TZOFFSETTO:+0300
TZNAME:EEST
DTSTART:20260329T010000
END:DAYLIGHT
BEGIN:STANDARD
TZOFFSETFROM:+0300
TZOFFSETTO:+0200
TZNAME:EET
DTSTART:20261025T010000
END:STANDARD
END:VTIMEZONE
BEGIN:VTIMEZONE
TZID:UTC
BEGIN:STANDARD
TZOFFSETFROM:+0000
TZOFFSETTO:+0000
TZNAME:UTC
DTSTART:20240101T000000
END:STANDARD
END:VTIMEZONE
BEGIN:VTIMEZONE
TZID:Asia/Krasnoyarsk
BEGIN:STANDARD
TZOFFSETFROM:+0700
TZOFFSETTO:+0700
TZNAME:+07
DTSTART:20240101T000000
END:STANDARD
END:VTIMEZONE
BEGIN:VTIMEZONE
TZID:America/New_York
BEGIN:DAYLIGHT
TZOFFSETFROM:-0500
TZOFFSETTO:-0400
TZNAME:EDT
DTSTART:20240310T070000
END:DAYLIGHT
BEGIN:STANDARD
TZOFFSETFROM:-0400
TZOFFSETTO:-0500
TZNAME:EST
DTSTART:20241103T060000
END:STANDARD
BEGIN:DAYLIGHT
TZOFFSETFROM:-0500
TZOFFSETTO:-0400
TZNAME:EDT
DTSTART:20250309T070000
END:DAYLIGHT
BEGIN:STANDARD
TZOFFSETFROM:-0400
TZOFFSETTO:-0500
TZNAME:EST
DTSTART:20251102T060000
END:STANDARD
BEGIN:DAYLIGHT
TZOFFSETFROM:-0500
TZOFFSETTO:-0400
TZNAME:EDT
DTSTART:20260308T070000
END:DAYLIGHT
BEGIN:STANDARD
TZOFFSETFROM:-0400
TZOFFSETTO:-0500
TZNAME:EST
DTSTART:20261101T060000
END:STANDARD
END:VTIMEZONE
BEGIN:VEVENT
DTSTART;TZID=Asia/Kolkata:20250719T000000
DTEND;TZID=Asia/Kolkata:20250720T235959
DTSTAMP:20260421T233626
CREATED:20250718T111400Z
LAST-MODIFIED:20250718T112514Z
UID:10000236-1752883200-1753055999@internationalmoonday.org
SUMMARY:INTERNATIONAL MOON DAY-2025
DESCRIPTION:1. Science Kit making Workshop for students of Std. VI to VIII\n2. Science Quiz for all.\n3. Science Film Shows for all.\n4. Star Gazing event for all. (weather permitted)
URL:https://internationalmoonday.org/event/international-moon-day-2025/
LOCATION:Dhenakanal Science Centre\, India\, Main Rd\, Near Rajbati\, Dhenkanal\, Odisha\, 759001\, India
CATEGORIES:In Person
ATTACH;FMTTYPE=image/jpeg:https://internationalmoonday.org/wp-content/uploads/2025/07/WhatsApp-Image-2025-07-18-at-12.51.39-PM.jpeg
ORGANIZER;CN="Dhenkanal Science Centre%2C Dhenkanal":MAILTO:funsciencedkl@gmail.com
GEO:20.647712495307;85.597309728837
X-APPLE-STRUCTURED-LOCATION;VALUE=URI;X-ADDRESS=Dhenakanal Science Centre India Main Rd Near Rajbati Dhenkanal Odisha 759001 India;X-APPLE-RADIUS=500;X-TITLE=Main Rd:geo:85.597309728837,20.647712495307
END:VEVENT
BEGIN:VEVENT
DTSTART;TZID=Europe/Helsinki:20250719T113000
DTEND;TZID=Europe/Helsinki:20250719T123000
DTSTAMP:20260421T233626
CREATED:20250707T085117Z
LAST-MODIFIED:20250719T080312Z
UID:10000217-1752924600-1752928200@internationalmoonday.org
SUMMARY:Panel Discussion: The Lunar Environmental Protection Working Group of the Global Expert Group on Sustainable Lunar Activities  “Identifying and Preserving Sites of Special Scientific Interest (SSSI) on the Moon”
DESCRIPTION:You’re invited! 🚀 Join us to safeguarding the lunar environment! 🌕✨ \n🌕 ABOUT THE ORGANIZER\nThe Lunar Environmental Protection Working Group (WG 1) of the Global Expert Group on Sustainable Lunar Activities (GEGSLA) aims to address critical priorities about safeguarding and preserving the lunar environment for the sustainable advancement of human activities. WG1 is further charged with evaluating lunar environmental sectors and locales meriting protection against contamination and other interferences\, thereby ensuring the conservation of their scientific\, cultural\, and aesthetic significance. The overarching objective of WG1 is to present recommendations conducive to safeguarding these environments\, fostering an environment where human lunar activities coexist harmoniously with the lunar landscape. \n🌕 EVENT DETAIL\nDates and Times: July 19\, 2025\, at 11.30 a.m. UTC+2 (Vienna Time)Location and Platform: Australia\, France\, Indonesia\, and the United Kingdom via Zoom Meeting (online)Format: Panel DiscussionPanelists:✨ Dr. Jean-Claude Worms\, Executive Director of the Committee on Space Research✨ Prof. Ian Crawford\, Professor of Planetary Science and Astrobiology\, School of Natural Sciences\, Birkbeck University of London✨ Dr. Alice Gorman\, Co-Chair of the Lunar Environmental Protection Working Group of the Global Expert Group on Sustainable Lunar Activities✨ Farah Diya Yasmine\, S.H.\, Co-Chair of the Lunar Environmental Protection Working Group of the Global Expert Group on Sustainable Lunar Activities \n🌕 Following the International Moon Day theme “One Moon\, One Vision\, One Future\,” the panelists’ material refers to the previous and ongoing working group’s discussion: “Identifying and Preserving Sites of Special Scientific Interest (SSSI) on the Moon.” \n🌕 Ready to join us? Register for FREE here:https://bit.ly/pdwg1gegsla\nSee you there! ✨ \n\n\nStream on YouTube
URL:https://internationalmoonday.org/event/panel-discussion-the-lunar-environmental-protection-working-group-of-the-global-expert-group-on-sustainable-lunar-activities-identifying-and-preserving-sites-of-special-scientific-interest/
LOCATION:Australia – Online\, Melbourne\, Australia
CATEGORIES:Online
ATTACH;FMTTYPE=image/png:https://internationalmoonday.org/wp-content/uploads/2025/07/WG-1-Panel-Discussion.png
GEO:-37.80969793425;144.92494108701
END:VEVENT
BEGIN:VEVENT
DTSTART;TZID=UTC:20250720T100000
DTEND;TZID=UTC:20250720T143000
DTSTAMP:20260421T233626
CREATED:20250701T130704Z
LAST-MODIFIED:20250710T125831Z
UID:10000210-1753005600-1753021800@internationalmoonday.org
SUMMARY:Moon Camp - LEGO competition
DESCRIPTION:CELEBRATIN INTERNATIONAL MOON DAY\nJoin us at the Noordung Center in Vitanje\, Slovenia\, for a special event marking International Moon Day – a creative and educational Moon Camp LEGO competition! Participants will build imaginative lunar bases using LEGO bricks\, inspired by real challenges of living on the Moon.\nThe event is part of the global Moon Camp Challenge initiative\, supported by the European Space Agency (ESA) and the Airbus Foundation\, which encourages students and families to learn about lunar exploration\, technology\, and sustainability. \nEVENT PROGRAM\n10:00 – Guided tour of the Noordung Center exhibitions (optional; ticketed per standard price list) \n11:00 – Start of the LEGO competition\n-Welcome and short presentation on lunar science and Moon missions\n-Creative building time\n-Team presentations and judging \n14:00 – Awards and closing ceremony \nEVENT INFO\nWho can join? Families\, individuals\, and teams of all ages\nCost: Participation in the competition is free of charge\nExhibition visit: Available before or after the competition (standard admission applies)\nTeam limit: The number of teams is limited\, so early registration is required \nCelebrate International Moon Day with us through imagination\, STEM\, and space exploration. Whether you’re a space enthusiast\, a creative builder\, or just curious about the Moon – this is the event for you!\nLet’s build the future of lunar living – one LEGO brick at a time. 🚀
URL:https://internationalmoonday.org/event/moon-camp-lego-competition/
LOCATION:Center of Space Technologies Herman Potočnik Noordung\, Slovenia\, Na vasi 18\, Vitanje\, 3205\, Slovenia
CATEGORIES:In Person
ORGANIZER;CN="Center of space technology of Herman Poto%C4%8Dnik Noordung":MAILTO:info@center-noordung.si
GEO:46.383120784417;15.29514376756
X-APPLE-STRUCTURED-LOCATION;VALUE=URI;X-ADDRESS=Center of Space Technologies Herman Potočnik Noordung Slovenia Na vasi 18 Vitanje 3205 Slovenia;X-APPLE-RADIUS=500;X-TITLE=Na vasi 18:geo:15.29514376756,46.383120784417
END:VEVENT
BEGIN:VEVENT
DTSTART;TZID=UTC:20250720T100000
DTEND;TZID=UTC:20250720T170000
DTSTAMP:20260421T233626
CREATED:20250718T111707Z
LAST-MODIFIED:20250718T111708Z
UID:10000237-1753005600-1753030800@internationalmoonday.org
SUMMARY:International Moon Day - Bhopal
DESCRIPTION:Regional Science Centre Bhopal will celebrate International Moon Day on July 20\, 2025\, with a Lunar Landing Model-Making Workshop\, Open House Quiz\, and engaging Moon-themed demonstrations.
URL:https://internationalmoonday.org/event/international-moon-day-bhopal/
LOCATION:Regional Science Cenre\, Bhopal\, India\, Banganga Rd\, Banganga Slums\, North TT Nagar\, Shymala Hills\, Bhopal\, Madhya Pradesh\, 462002\, India
CATEGORIES:In Person
ATTACH;FMTTYPE=image/jpeg:https://internationalmoonday.org/wp-content/uploads/2025/07/IMG-20250717-WA0007.jpg
ORGANIZER;CN="Regional Science Centre%2C Bhopal":MAILTO:rscb.edu@gmail.com
GEO:23.236205669138;77.390006570816
X-APPLE-STRUCTURED-LOCATION;VALUE=URI;X-ADDRESS=Regional Science Cenre Bhopal India Banganga Rd Banganga Slums North TT Nagar Shymala Hills Bhopal Madhya Pradesh 462002 India;X-APPLE-RADIUS=500;X-TITLE=Banganga Rd\, Banganga Slums\, North TT Nagar\, Shymala Hills:geo:77.390006570816,23.236205669138
END:VEVENT
BEGIN:VEVENT
DTSTART;TZID=UTC:20250721T183000
DTEND;TZID=UTC:20250722T003000
DTSTAMP:20260421T233626
CREATED:20250714T075935Z
LAST-MODIFIED:20250714T115602Z
UID:10000225-1753122600-1753144200@internationalmoonday.org
SUMMARY:FARI E SFARI DI LUNA
DESCRIPTION:Nel 2021\, l’Assemblea Generale delle Nazioni Unite ha dichiarato il 20 luglio la “Giornata Internazionale della Luna” per commemorare l’anniversario del primo sbarco dell’uomo avvenuto nel 1969\, con la missione Apollo 11. \nFrontiera per la scienza\, ma anche simbolo potentissimo e ispiratore di artisti di tutte le epoche e da tutto il mondo\, la luna viene celebrata a Pantelleria\, scenario unico per la serata “Fari e sfari di luna”. \nNella fantasia popolare la luna non è mai lo stesso corpo celeste: si forma (fari) e si distrugge (sfari) ogni mese.In realtà\, l’aspetto diverso\, il cambiamento\, che mostra a noi che la guardiamo da quaggiu’\, non sono altro che le fasi lunari a cui le culture di tutte le latitudini attribuiscono varie influenze.Pantelleria è la location perfetta per questa narrazione che nasce naturalmente dalle caratteristiche uniche dell’isola\, creando un legame autentico tra paesaggio\, tema e comunità locale. Per questioni logistico/organizzative è stato ritenuto di fare slittare di un giorno la data dell’evento a lunedì 21 luglio. \nFORMATTipologia di evento = Culturale&EntertainmentGenere = Fotografia\, Cinema\, Arte\, Cultura\, TradizioneTarget = Pubblico generalista (locali e turisti) appassionato al temaStagionalità = Evento one shot estivo (20 luglio) ma replicabileData = Lunedì 21 luglio 2025Durata = pomeriggio/sera (18:00-00.30)Luogo = Corso Umberto I\, Piazzetta Nazario Sauro \nMeccanica dell’evento• Inaugurazione Mostra fotografica di Nicola Ferrari “Lunitudine”\, Corso Umberto I n. 17 (h. 18.30)• Reading poetico al tramonto (n. 9 poesie dedicate alla luna) con intermezzi musicali \, Piazza Nazario Sauro (h.19.30-20.15)• Degustazioni vino locale e birra artigianale “Drink a luna calante”• Punti di ristoro\, degustazioni prodotti locali• Proiezione de “La luna di Gabriel”\, racconto del soggiorno a Pantelleria di Gabriel Garcia Marquez scritto da Nicola Ferrari e Salvatore Gabriele con Paolo Ponzo\, regia di Nicola Ferrari (h. 21.00) Piazza Nazario Sauro• Rock moon\, la luna e la musica rock dagli anni ’70 ad oggi ( h. 22.00/00.30)Inoltre….Breve ricordo di Filippo Panseca e della sua opera Artificial Bionic MoonVetrine dei negozi di Corso Umberto “a tema lunare” ( abbigliamento e accessori bianchi\, argento\, madreperla\, oggetti raffiguranti la luna\, bijoux ecc.\,)Infopoint sulle iniziative e attività sull’astronomia e altro organizzate a Pantelleria (Unipant)
URL:https://internationalmoonday.org/event/fari-e-sfari-di-luna/
LOCATION:PANTELLERIA\, CORSO UMBERTO I\, PANTELLERIA\, TP\, 91017\, Italy
CATEGORIES:In Person
ATTACH;FMTTYPE=image/jpeg:https://internationalmoonday.org/wp-content/uploads/2025/07/FARI-E-SFARI-STAMPA-scaled.jpg
ORGANIZER;CN="CIRCOLO CULTURALE CORSO UMBERTO":MAILTO:annasilvia2655@gmail.com
GEO:36.830667119189;11.944825009999
X-APPLE-STRUCTURED-LOCATION;VALUE=URI;X-ADDRESS=PANTELLERIA CORSO UMBERTO I PANTELLERIA TP 91017 Italy;X-APPLE-RADIUS=500;X-TITLE=CORSO UMBERTO I:geo:11.944825009999,36.830667119189
END:VEVENT
BEGIN:VEVENT
DTSTART;TZID=Asia/Kolkata:20250724T080000
DTEND;TZID=Asia/Kolkata:20250731T170000
DTSTAMP:20260421T233626
CREATED:20250728T082430Z
LAST-MODIFIED:20250728T082431Z
UID:10000247-1753344000-1753981200@internationalmoonday.org
SUMMARY:Creativity and the Moon: Posters\, Models and Quizzes!
DESCRIPTION:Join us as we commemorate International Moon Day with a dynamic showcase of creativity and curiosity! Dive into exciting poster competitions\, challenge your mind in our lunar‑themed quiz\, and bring your imagination to life in model‑making competitions. Let’s celebrate humanity’s journey to the Moon and beyond—together\, we’ll ignite ideas that are truly out of this world.
URL:https://internationalmoonday.org/event/creativity-and-the-moon-posters-models-and-quizzes/
CATEGORIES:Online
ATTACH;FMTTYPE=image/jpeg:https://internationalmoonday.org/wp-content/uploads/2025/07/International-Moon-Day-YI.jpg
END:VEVENT
BEGIN:VEVENT
DTSTART;TZID=Asia/Krasnoyarsk:20250727T100000
DTEND;TZID=Asia/Krasnoyarsk:20250727T110000
DTSTAMP:20260421T233626
CREATED:20250727T150227Z
LAST-MODIFIED:20250727T150228Z
UID:10000248-1753610400-1753614000@internationalmoonday.org
SUMMARY:Lifting Off Together: Lunar Exploration Opportunities for Emerging Nations (Legal and Technical Approaches)
DESCRIPTION:FARAH LAW SCHOOL 3RD VIRTUAL LECTURE\n\n🌕In Celebration of International Moon Day🌕\n\nPresents\n\nLifting Off Together: Lunar Exploration Opportunities for Emerging Nations (Legal and Technical Approaches)\n\n🗣️Speaker: La-Quita George (National Coordinator of Trinidad and Tobago\, Moon Village Association);\n🗣️Speaker: Dr. Javier Maldonado-Romo (Research Coordinator\, SGAC Space Safety and Sustainability Project Group);\n🗣️Speaker: Farah Diya Yasmine (Founder\, Farah Law School)\n👤Moderator: Purvika Mittal (Astrodynamics Engineer)\n🗓️Schedule: July 27\, 2025 (10.pm–11. pm GMT+7)\n📌Platform: Zoom Meeting (link will be provided through the WhatsApp Group)\n📝Note:\n\nLimited Seat! \n\nFree registration through the Sejuta Cita Application (for Indonesian applicants) and/or Google Form (for overseas applicants)\n\nhttps://bit.ly/farahlawschool3 \n\n📲Information:\n\nInstagram: @farahlawschool
URL:https://internationalmoonday.org/event/lifting-off-together-lunar-exploration-opportunities-for-emerging-nations-legal-and-technical-approaches/
LOCATION:Indonesia – Online\, Indonesia
CATEGORIES:Online
ATTACH;FMTTYPE=image/jpeg:https://internationalmoonday.org/wp-content/uploads/2025/07/IMG-20250715-WA0000.jpg
GEO:-0.789275;113.921327
END:VEVENT
BEGIN:VEVENT
DTSTART;TZID=UTC:20250802T000000
DTEND;TZID=UTC:20250803T235959
DTSTAMP:20260421T233626
CREATED:20250714T080417Z
LAST-MODIFIED:20250714T080418Z
UID:10000223-1754092800-1754265599@internationalmoonday.org
SUMMARY:Altair Lunar Camp 4.0
DESCRIPTION:Altair Lunar Camp 4.0 is an immersive camping event where we will celebrate International Moon Day 2025 with the motto of “One Moon\, One Vision\, One Future”\, embracing our core principles of unity\, sustainability\, and fair access for everyone. \nOne Moon: Our camp emphasizes that the Moon is a shared heritage for all humanity. Through telescopic observations and hands-on astrophotography\, participants will feel this universal connection and develop a sense of responsibility to protect and explore the Moon sustainably. \nOne Vision: By bringing together students\, young professionals\, children\, families\, artists\, astronomers\, lawyers\, and anyone interested in space and camping\, we aim to build a community vision for the future of lunar exploration. Informative mini-seminars\, campfire talks\, and competitions will spark curiosity and collaboration across disciplines.One Future: The camp highlights the importance of sustainability in all space and lunar activities. We believe that sharing this vision with new generations will inspire them to turn lunar challenges into opportunities\, ensuring a better future for Earth and beyond. \nHighlights:• Hands-On Observations: Participants will set up tents by the Alpsari Lake (Cankiri\, Turkiye) and spend nights under the stars\, observing the Moon and deep sky objects with telescopes.• Astrophotography Workshop with Mustafa Aydin: One of the camp’s unique highlights will be an astrophotography workshop led by Mustafa Aydın\, an award-winning astrophotographer whose work “Stardust” has officially reached the lunar surface as part of the MoonMars Museum project and now rests in the Mare Crisium region of the Moon carrying humanity’s artistic legacy beyond Earth. Mustafa Aydın will share his experience photographing the night sky in light-pollution-free regions for over a decade\, and participants will learn how to capture the Moon even with a simple smartphone under his guidance.• Community Building: Social activities\, nature walks\, games\, and fireside talks with guest trainers will create a sense of unity and shared responsibility for sustainability.• Photo Exhibition Series: As in previous years\, Moon\, space\, and nature photos taken during the camp will be curated into exhibitions (as a difference\, physical only this year) in different cities\, extending the IMD spirit throughout the year.• Target Audience: Open to youth\, students\, young professionals\, families\, artists\, astronomy and law enthusiasts\, and anyone passionate about space\, nature and camping.• Participation Goal: The camp will host approximately 50 participants to ensure an inclusive and impactful experience.Partners & Support:Altair will organize the camp in collaboration with Stellar Experiences\, with the encouragement of Moon Village Association and UNOOSA\, and with the participation of the Ankara Bar Association Photography Club. Further local partnerships and sponsorships are being explored to strengthen the event’s impact.Post-Camp Impact:In addition to the on-site experience\, we plan to create awareness through:• Social media campaigns on Instagram and LinkedIn using #IMD2025\,• Exhibitions of photos taken during the camp in various public spaces\,• Inspiring new participants to join future space activities and contribute to a “sustainable spatial future”. \nSummary of Details:• Name: Altair Lunar Camp 4.0• Type: Educational\, Scientific\, Cultural• Date: August 2–3\, 2025• Location: Alpsari Lake\, Cankiri\, Turkiye• Format: In-person (camping); future exhibitions will be physical.• Promotion: Social media\, local and nat’l partnerships.
URL:https://internationalmoonday.org/event/altair-lunar-camp-4-0/
LOCATION:Alpsari Lake\, Cankiri\, Turkiye\, Turkey
CATEGORIES:In Person
ATTACH;FMTTYPE=image/jpeg:https://internationalmoonday.org/wp-content/uploads/2025/07/Altair-Lunar-Camp-4.0.jpg
GEO:40.678239510135;33.505076055555
END:VEVENT
BEGIN:VEVENT
DTSTART;TZID=Europe/Helsinki:20250926T163000
DTEND;TZID=Europe/Helsinki:20250926T180000
DTSTAMP:20260421T233626
CREATED:20250811T071456Z
LAST-MODIFIED:20250811T082545Z
UID:10000252-1758904200-1758909600@internationalmoonday.org
SUMMARY:100 Years from the Moon Landing to a Cislunar City
DESCRIPTION:International Moon Day is an opportunity to recognize the central role the Moon has played and continues to play in the history of space exploration. A symbol of cosmic proximity and technological challenge\, the Moon has represented a point of reference for humanity for millennia. Today\, between the memory of historic landings and ambitious future plans\, this anniversary renews the scientific community’s commitment to a new era of lunar exploration. As in 1969\, every extraordinary journey begins with a simple step. \nTen years ago in July\, the Center for Near Space of the Italian Institute for the Future was founded with the aim of spreading Space Culture\, supporting the development of Civil Astronautics\, and fostering the growth of the Private User Community. The launch of conceptual studies of orbital architecture with its OrbiTecture team soon evolved into the pioneering studies of the Cislunar City\, in the belief that the scientific enterprise of space exploration is rapidly evolving toward a permanent human presence in space. \nOn this basis and with these elements\, the session “100 YEARS FROM THE MOON LANDING TO A CISLUNAR CITY” aims\, on the one hand\, to celebrate man’s first step on the moon as humanity’s first step off Earth\, and on the other\, to project forward a century later\, when the stable existence of a community of approximately 1\,000 people in a dozen “neighborhoods” located between low Earth orbit and the Moon\, both orbit and surface\, will be possible and probable.The prospect of the emergence of the Cislunar City and its long-term configuration as a coordinated community\, not subordinated to terrestrial power centers\, requires a radical rethinking of the legal paradigm applicable to it. The purely geocentric perspective that informs the spirit of current regulations is proving increasingly inadequate to meet the needs of an autonomous\, stable\, and structured community in space. It is therefore appropriate\, if not necessary\, to establish a normative paradigm that goes beyond the limits of traditional international law to develop a space law for space\, conceived in light of the environmental\, social\, and operational specificities of the cislunar context.
URL:https://internationalmoonday.org/event/100-years-from-the-moon-landing-to-a-cislunar-city/
LOCATION:Napoli\, Italy\, Naples\, Italy
CATEGORIES:In Person
ATTACH;FMTTYPE=image/png:https://internationalmoonday.org/wp-content/uploads/2025/08/Immagine2.png
GEO:40.852155151418;14.268155519237
END:VEVENT
BEGIN:VEVENT
DTSTART;TZID=America/New_York:20251011T000000
DTEND;TZID=America/New_York:20251011T235959
DTSTAMP:20260421T233626
CREATED:20250912T133828Z
LAST-MODIFIED:20251001T152215Z
UID:10000254-1760140800-1760227199@internationalmoonday.org
SUMMARY:Cortometraje Stop-Motion Viaje a la Luna con poblaciones vulnerables
DESCRIPTION:En conjunto con AESS UN del IEEE de la Universidad Nacional de Colombia se propone realizar una actividad junto a la fundación Tierra Nueva\, quienes trabajan con niñas\, niños y adolescentes en condición de vulnerabilidad. Se propone realizar a lo largo del  día una jornada donde exploraremos los fundamentos de la exploración lunar y el viaje espacial. Con esta base\, el equipo organizador\, compuesto por estudiantes universitarios en áreas de ingeniería y física\, guiarán a los niños para la realización de un cortometraje con técnica Stop-Motion sobre los próximos viajes a la Luna. Ellos mismos serán partícipes en la elaboración\, creación y ejecución de los elementos de escenografía\, guion\, historia y grabación. Finalmente\, el equipo organizador se encargará de la parte de edición y creación del producto final. El cortometraje tiene como fin ser proyectado de la mano con la fundación en otros escenarios culturales y divulgado en medios digitales.\n\nTogether with AESS UN of IEEE at the National University of Colombia\, an activity is proposed in collaboration with the Tierra Nueva Foundation\, which works with children and adolescents in vulnerable conditions. The plan is to hold a day-long session exploring the fundamentals of lunar exploration and space travel. Based on this\, the organizing team—made up of university students in engineering and physics—will guide the children in creating a stop-motion short film about the upcoming missions to the Moon. They themselves will participate in the development\, creation\, and execution of the scenery\, script\, story\, and filming. Finally\, the organizing team will be responsible for editing and producing the final product. The short film is intended to be showcased together with the foundation in other cultural venues and shared through digital media.
URL:https://internationalmoonday.org/event/cortometraje-stop-motion-viaje-a-la-luna-con-poblaciones-vulnerables/
LOCATION:Cazuca\, Cundinamarca\, Colombia\, Colombia
CATEGORIES:In Person
ORGANIZER;CN="Francisco Forero (MVA National Coordinator%2C Colombia)":MAILTO:franciscoforerodaza@gmail.com
END:VEVENT
END:VCALENDAR