BEGIN:VCALENDAR
VERSION:2.0
PRODID:-//International Moon Day - ECPv6.15.20//NONSGML v1.0//EN
CALSCALE:GREGORIAN
METHOD:PUBLISH
X-ORIGINAL-URL:https://internationalmoonday.org
X-WR-CALDESC:Events for International Moon Day
REFRESH-INTERVAL;VALUE=DURATION:PT1H
X-Robots-Tag:noindex
X-PUBLISHED-TTL:PT1H
BEGIN:VTIMEZONE
TZID:Europe/Rome
BEGIN:DAYLIGHT
TZOFFSETFROM:+0100
TZOFFSETTO:+0200
TZNAME:CEST
DTSTART:20220327T010000
END:DAYLIGHT
BEGIN:STANDARD
TZOFFSETFROM:+0200
TZOFFSETTO:+0100
TZNAME:CET
DTSTART:20221030T010000
END:STANDARD
BEGIN:DAYLIGHT
TZOFFSETFROM:+0100
TZOFFSETTO:+0200
TZNAME:CEST
DTSTART:20230326T010000
END:DAYLIGHT
BEGIN:STANDARD
TZOFFSETFROM:+0200
TZOFFSETTO:+0100
TZNAME:CET
DTSTART:20231029T010000
END:STANDARD
BEGIN:DAYLIGHT
TZOFFSETFROM:+0100
TZOFFSETTO:+0200
TZNAME:CEST
DTSTART:20240331T010000
END:DAYLIGHT
BEGIN:STANDARD
TZOFFSETFROM:+0200
TZOFFSETTO:+0100
TZNAME:CET
DTSTART:20241027T010000
END:STANDARD
END:VTIMEZONE
BEGIN:VEVENT
DTSTART;TZID=Europe/Rome:20230720T153000
DTEND;TZID=Europe/Rome:20230720T183000
DTSTAMP:20260422T110059
CREATED:20230717T180906Z
LAST-MODIFIED:20230718T053200Z
UID:10000124-1689867000-1689877800@internationalmoonday.org
SUMMARY:Global Lubar Odyssey: Celebrating International Moon Day with MVA Germany and Italy- France
DESCRIPTION:Join us for an exciting online half-day event focused on “Beginning the New Lunar Journey for Humanity.” This event aims to bring together space professionals from across Europe\, representing academia\, industry\, and student associations\, to promote expertise and research interests in lunar space exploration. \n\n\n\nOur goal is to foster collaboration and networking among stakeholders\, including student communities\, academic institutions\, and industry representatives\, creating a dynamic and engaging event. \n\n\n\nThe schedule will feature speakers from various European countries\, each delivering a keynote during the International Moon Day (IMD) event\, followed by a brief Q&A session. These speakers will represent diverse communities\, such as academia\, industry\, NGOs\, and research institutions. \n\n\n\nThe topics addressed will revolve around future lunar space exploration activities and will consider interdisciplinary perspectives from sciences\, engineering\, economy\, and health\, thus reflecting the multidimensional nature of this exciting field. \n\n\n\nJoin us as we embark on this journey together and celebrate International Moon Day with a wide representation of space professionals from across Europe. Let’s unite in exploring new frontiers and advancing humanity’s lunar exploration endeavours. \n\n\n\nSave the date and stay tuned for updates on the event schedule\, speaker lineup\, and Zoom link to join this inspiring celebration. \n\n\n\nSpeakers\n\n\n\nProf. Philipp Reiss (Head of Lunar Exploration Department at TU Munich)Prof. Jan Harms (Gran Sasso Science Institute)Ms. Laura Todd (VP Space Exploration – Future Programmes – Airbus)Mr. Giorgio Lorini (SEDS Italia)Mr. Brendan Mance (TUM WARR) \n\n\n\nHosts:\n\n\n\nProf. Alessandro Bartoloni\, INFN Roma & CERNMr. Salman Ali Thepdawala\, PhD Scholar at Munich Aerospace & UniBw-M \n\n\n\nRegister on Zoom to participate\n\n\n\n\nRegistration link
URL:https://internationalmoonday.org/event/mva-germany-italy-imd-collaboration-france/
LOCATION:France – Online\, France
CATEGORIES:Online
ATTACH;FMTTYPE=image/png:https://internationalmoonday.org/wp-content/uploads/2023/06/image_2023-07-17_210109169.png
GEO:46.227638;2.213749
END:VEVENT
END:VCALENDAR