BEGIN:VCALENDAR
VERSION:2.0
PRODID:-//International Moon Day - ECPv6.15.20//NONSGML v1.0//EN
CALSCALE:GREGORIAN
METHOD:PUBLISH
X-ORIGINAL-URL:https://internationalmoonday.org
X-WR-CALDESC:Events for International Moon Day
REFRESH-INTERVAL;VALUE=DURATION:PT1H
X-Robots-Tag:noindex
X-PUBLISHED-TTL:PT1H
BEGIN:VTIMEZONE
TZID:UTC
BEGIN:STANDARD
TZOFFSETFROM:+0000
TZOFFSETTO:+0000
TZNAME:UTC
DTSTART:20230101T000000
END:STANDARD
END:VTIMEZONE
BEGIN:VEVENT
DTSTART;TZID=UTC:20240715T080000
DTEND;TZID=UTC:20240720T170000
DTSTAMP:20260421T185400
CREATED:20240717T163456Z
LAST-MODIFIED:20240717T163457Z
UID:10000175-1721030400-1721494800@internationalmoonday.org
SUMMARY:Lunar Landscapes - A view!
DESCRIPTION:Free of cost lunar observation session for the general public in Islamabad\, Pakistan. \n\n\n\nAstro Adventures 8Oct22 V4_Optimized – Khawar Ali SherDownload
URL:https://internationalmoonday.org/event/lunar-landscapes-a-view/
LOCATION:Pakistan\, Islamabad\, Pakistan
CATEGORIES:In Person
ATTACH;FMTTYPE=image/gif:https://internationalmoonday.org/wp-content/uploads/2024/06/pk-flag.gif
GEO:33.6844202;73.0478848
END:VEVENT
END:VCALENDAR