BEGIN:VCALENDAR
VERSION:2.0
PRODID:-//International Moon Day - ECPv6.15.20//NONSGML v1.0//EN
CALSCALE:GREGORIAN
METHOD:PUBLISH
X-ORIGINAL-URL:https://internationalmoonday.org
X-WR-CALDESC:Events for International Moon Day
REFRESH-INTERVAL;VALUE=DURATION:PT1H
X-Robots-Tag:noindex
X-PUBLISHED-TTL:PT1H
BEGIN:VTIMEZONE
TZID:Europe/Paris
BEGIN:DAYLIGHT
TZOFFSETFROM:+0100
TZOFFSETTO:+0200
TZNAME:CEST
DTSTART:20240331T010000
END:DAYLIGHT
BEGIN:STANDARD
TZOFFSETFROM:+0200
TZOFFSETTO:+0100
TZNAME:CET
DTSTART:20241027T010000
END:STANDARD
BEGIN:DAYLIGHT
TZOFFSETFROM:+0100
TZOFFSETTO:+0200
TZNAME:CEST
DTSTART:20250330T010000
END:DAYLIGHT
BEGIN:STANDARD
TZOFFSETFROM:+0200
TZOFFSETTO:+0100
TZNAME:CET
DTSTART:20251026T010000
END:STANDARD
BEGIN:DAYLIGHT
TZOFFSETFROM:+0100
TZOFFSETTO:+0200
TZNAME:CEST
DTSTART:20260329T010000
END:DAYLIGHT
BEGIN:STANDARD
TZOFFSETFROM:+0200
TZOFFSETTO:+0100
TZNAME:CET
DTSTART:20261025T010000
END:STANDARD
END:VTIMEZONE
BEGIN:VTIMEZONE
TZID:UTC
BEGIN:STANDARD
TZOFFSETFROM:+0000
TZOFFSETTO:+0000
TZNAME:UTC
DTSTART:20240101T000000
END:STANDARD
END:VTIMEZONE
BEGIN:VTIMEZONE
TZID:America/New_York
BEGIN:DAYLIGHT
TZOFFSETFROM:-0500
TZOFFSETTO:-0400
TZNAME:EDT
DTSTART:20240310T070000
END:DAYLIGHT
BEGIN:STANDARD
TZOFFSETFROM:-0400
TZOFFSETTO:-0500
TZNAME:EST
DTSTART:20241103T060000
END:STANDARD
BEGIN:DAYLIGHT
TZOFFSETFROM:-0500
TZOFFSETTO:-0400
TZNAME:EDT
DTSTART:20250309T070000
END:DAYLIGHT
BEGIN:STANDARD
TZOFFSETFROM:-0400
TZOFFSETTO:-0500
TZNAME:EST
DTSTART:20251102T060000
END:STANDARD
BEGIN:DAYLIGHT
TZOFFSETFROM:-0500
TZOFFSETTO:-0400
TZNAME:EDT
DTSTART:20260308T070000
END:DAYLIGHT
BEGIN:STANDARD
TZOFFSETFROM:-0400
TZOFFSETTO:-0500
TZNAME:EST
DTSTART:20261101T060000
END:STANDARD
END:VTIMEZONE
BEGIN:VTIMEZONE
TZID:America/Bogota
BEGIN:STANDARD
TZOFFSETFROM:-0500
TZOFFSETTO:-0500
TZNAME:-05
DTSTART:20240101T000000
END:STANDARD
END:VTIMEZONE
BEGIN:VEVENT
DTSTART;TZID=Europe/Paris:20251008T143000
DTEND;TZID=Europe/Paris:20251008T160000
DTSTAMP:20260422T011746
CREATED:20250919T081921Z
LAST-MODIFIED:20251008T113048Z
UID:10000258-1759933800-1759939200@internationalmoonday.org
SUMMARY:World Space Week Association x Moon Village Association: What Does It Take to Live on the Moon?
DESCRIPTION:Date: October 8\, 2025 | Time: 14:30 – 16:00 CETTheme: What Does It Take to Live on the Moon?Format: 90-Minute Virtual Program \n\n\n\nThis joint event\, organized by the World Space Week Association (WSWA) and the Moon Village Association (MVA)\, is part of the global celebrations of World Space Week 2025\, which this year carries the theme “Living in Space.” and the same time\,  an official International Moon Day (IMD) Global Event\, focusing specifically on the theme of living on the Moon. \n\n\n\nBringing together voices from across the world\, including NASA (USA) and the Deep Space Exploration Lab (China)\, this 90-minute international program will explore the opportunities\, challenges\, and global cooperation needed to make lunar living a reality. Experts\, policymakers\, and industry leaders will share perspectives on current missions\, future plans\, human factors\, sustainability\, and the role of global collaboration in shaping humanity’s future on the Moon. \n\n\n\nBy joining forces\, WSWA and MVA highlight the importance of international dialogue and partnership in ensuring that humanity’s next big step beyond Earth is inclusive\, cooperative\, and inspiring for future generations. \n\n\n\nRegister for free on evenbrite\n\n\n\n\nEVENTBRITE\n\n\n\n\nWatch on Youtube\n\n\n\n\n\n\n\n\n\nAgenda\n\n\n\n1. Introduction\n\n\n\n\nWorld Space Week Welcome – Alma Okpalefe\, Executive Director\, WSWA\n\n\n\nMoon Village Association Welcome – Giuseppe Reibaldi\, President\, Moon Village Association\n\n\n\nInternational Moon Day Welcome – Nasr Alsahhaf\, Chair\, International Moon Day\n\n\n\n\n\n“Why living on the Moon is the next big step for humanity.” – John Mankins\, CEO\, Mankins Space Technologies Inc.\n\n\n\n\n2. Keynote Addresses\n\n\n\nTopic: Laying the Foundations for Lunar Living \n\n\n\nSpeakers: \n\n\n\n\nDr. Jacob Bleacher\, Chief Exploration Scientist\, National Aeronautics and Space Administration (NASA)\, USA\n\n\n\nDr. Wang Zhongmin\, Director of International Cooperation Center\, Deep Space Exploration Lab. (DSEL)\, China\n\n\n\n\n3. Spotlight Talk\n\n\n\nTopic: “Building Habitats Beyond Earth: Designing for Survival and Sustainability on the Moon.” \n\n\n\nTimothy Cichan\, Lead Space Exploration Architecture\, Lockheed Martin \n\n\n\n4. Panel Discussion\n\n\n\nTopic: Living on the Moon – Challenges\, Opportunities\, and Global CooperationModerator: Satoru Kurosu\, Moon Market Coordinator\, Moon Village AssociationSpeakers: \n\n\n\n\nShatel Bhakta\, NASA\n\n\n\nWang Zhongmin\, DSEL\n\n\n\nTimothy Cichan\, Lockheed Martin\n\n\n\nBob Lamboray\, Luxembourg Space Agency\n\n\n\nUlpia Botezatu\, UNOOSA\n\n\n\nMarlene Losier\, For All Moonkind \n\n\n\n\n6. Closing Remarks\n\n\n\n\nWorld Space Week Association – Dennis Stone\, President\, WSWA\n\n\n\nMoon Village Association – Giuseppe Reibaldi\, President\, Moon Village Association
URL:https://internationalmoonday.org/event/world-space-week-association-x-moon-village-association-living-on-the-moon/
LOCATION:USA – Online\, United States
ATTACH;FMTTYPE=image/png:https://internationalmoonday.org/wp-content/uploads/2025/09/1.png
GEO:37.09024;-95.712891
END:VEVENT
BEGIN:VEVENT
DTSTART;TZID=UTC:20251010T100000
DTEND;TZID=UTC:20251010T130000
DTSTAMP:20260422T011746
CREATED:20251009T081601Z
LAST-MODIFIED:20251009T081602Z
UID:10000261-1760090400-1760101200@internationalmoonday.org
SUMMARY:"From the International Space Station to the Lunar Space Station: Italy's Key Role and Opportunities for Latin America"
DESCRIPTION:Participation in the WSW is part of IILA’s initiatives in the field of science and space diplomacy\, including the noteworthy “Meeting of Space Agencies of IILA Member Countries\,” now in its fourth year\, and the project to build the first satellite mission by two IILA countries\, Panama and the Dominican Republic. It offers an opportunity to explore humanity’s journey to live sustainably and long-lastingly\, first in orbit and then on the lunar surface\, aiming one day to reach Mars. This journey\, through the use of innovative technologies that seek to make space a safe habitat\, with careful attention to astronauts’ needs and comfort\, allows them to face and overcome increasingly challenging challenges\, bringing to reality scenarios that were only a dream until recently. Space technologies have also opened up possibilities for a more sustainable future on our planet\, with positive implications for Latin American countries as well.
URL:https://internationalmoonday.org/event/from-the-international-space-station-to-the-lunar-space-station-italys-key-role-and-opportunities-for-latin-america/
LOCATION:Italy\, Rome\, Rome\, Italy
CATEGORIES:Hybrid
ATTACH;FMTTYPE=image/jpeg:https://internationalmoonday.org/wp-content/uploads/2025/10/IILA-WSW-2025-.jpg
ORGANIZER;CN="Organizzazione Internazionale Italo-Latino Americana IILA":MAILTO:s.tecnicoscientifica@iila.org
GEO:41.9027835;12.4963655
END:VEVENT
BEGIN:VEVENT
DTSTART;TZID=America/New_York:20251011T000000
DTEND;TZID=America/New_York:20251011T235959
DTSTAMP:20260422T011746
CREATED:20250912T133828Z
LAST-MODIFIED:20251001T152215Z
UID:10000254-1760140800-1760227199@internationalmoonday.org
SUMMARY:Cortometraje Stop-Motion Viaje a la Luna con poblaciones vulnerables
DESCRIPTION:En conjunto con AESS UN del IEEE de la Universidad Nacional de Colombia se propone realizar una actividad junto a la fundación Tierra Nueva\, quienes trabajan con niñas\, niños y adolescentes en condición de vulnerabilidad. Se propone realizar a lo largo del  día una jornada donde exploraremos los fundamentos de la exploración lunar y el viaje espacial. Con esta base\, el equipo organizador\, compuesto por estudiantes universitarios en áreas de ingeniería y física\, guiarán a los niños para la realización de un cortometraje con técnica Stop-Motion sobre los próximos viajes a la Luna. Ellos mismos serán partícipes en la elaboración\, creación y ejecución de los elementos de escenografía\, guion\, historia y grabación. Finalmente\, el equipo organizador se encargará de la parte de edición y creación del producto final. El cortometraje tiene como fin ser proyectado de la mano con la fundación en otros escenarios culturales y divulgado en medios digitales.\n\nTogether with AESS UN of IEEE at the National University of Colombia\, an activity is proposed in collaboration with the Tierra Nueva Foundation\, which works with children and adolescents in vulnerable conditions. The plan is to hold a day-long session exploring the fundamentals of lunar exploration and space travel. Based on this\, the organizing team—made up of university students in engineering and physics—will guide the children in creating a stop-motion short film about the upcoming missions to the Moon. They themselves will participate in the development\, creation\, and execution of the scenery\, script\, story\, and filming. Finally\, the organizing team will be responsible for editing and producing the final product. The short film is intended to be showcased together with the foundation in other cultural venues and shared through digital media.
URL:https://internationalmoonday.org/event/cortometraje-stop-motion-viaje-a-la-luna-con-poblaciones-vulnerables/
LOCATION:Cazuca\, Cundinamarca\, Colombia\, Colombia
CATEGORIES:In Person
ORGANIZER;CN="Francisco Forero (MVA National Coordinator%2C Colombia)":MAILTO:franciscoforerodaza@gmail.com
END:VEVENT
BEGIN:VEVENT
DTSTART;TZID=America/Bogota:20251018T100500
DTEND;TZID=America/Bogota:20251018T113000
DTSTAMP:20260422T011746
CREATED:20250918T100346Z
LAST-MODIFIED:20250918T100347Z
UID:10000255-1760781900-1760787000@internationalmoonday.org
SUMMARY:Artemisa: una misión a la Luna al alcance de tu mano
DESCRIPTION:El programa Artemisa de la NASA es un esfuerzo que busca una nueva arquitectura de misiones lunares para que el siguiente hombre y la primera mujer pisen la Luna en 2027. La conferencia se centra en una exposición interactiva con modelos modulares de cohetes impresos en 3D\, que permitirán comprender cada fase de las misiones y la función de cada componente del vehículo. \n\nSe realizará un recorrido por el perfil de las misiones Artemisa 2 y 3\, planeadas para 2026 y 2027 respectivamente\, así como una introducción a las bases del viaje espacial\, la exploración lunar y los acontecimientos de los próximos cuatro años. Finalmente\, se explorará el Polo Sur Lunar y por qué representa un gran interés para diferentes naciones alrededor del mundo.
URL:https://internationalmoonday.org/event/artemisa-una-mision-a-la-luna-al-alcance-de-tu-mano/
CATEGORIES:Hybrid
ORGANIZER;CN="Francisco Forero (MVA National Coordinator%2C Colombia)%3B ACDA":MAILTO:franciscoforerodaza@gmail.com
END:VEVENT
BEGIN:VEVENT
DTSTART;TZID=UTC:20260801T000000
DTEND;TZID=UTC:20260809T235959
DTSTAMP:20260422T011746
CREATED:20260218T132644Z
LAST-MODIFIED:20260218T132645Z
UID:10000487-1785542400-1786319999@internationalmoonday.org
SUMMARY:COSPAR Lunar & Space Exploration Sessions
DESCRIPTION:COSPAR Lunar & Space Exploration Sessions
URL:https://internationalmoonday.org/event/cospar-lunar-space-exploration-sessions/
LOCATION:Florence\, Italy\, Italy
CATEGORIES:In Person
ATTACH;FMTTYPE=image/jpeg:https://internationalmoonday.org/wp-content/uploads/2026/02/cospar-2026-pic-1.jpg
GEO:43.781880515004;11.248647526086
END:VEVENT
BEGIN:VEVENT
DTSTART;TZID=UTC:20260811T080000
DTEND;TZID=UTC:20260811T170000
DTSTAMP:20260422T011746
CREATED:20260417T142940Z
LAST-MODIFIED:20260417T142941Z
UID:10000485-1786435200-1786467600@internationalmoonday.org
SUMMARY:Total Solar Eclipse Campaign &  International Moon Day
DESCRIPTION:We plan a Multi Site Total Solar Eclipse Campaign &  International Moon Day .\nThat will include observations by professionals\, amateurs and public outreach events celebrating Sun\, Moon\, space\, Science and Cosmos.\nThat will involve various sites :  \nSPACE\nCoordinated observations from Space obervatories including SOHO\, Proba\, Proba3\, Aditya\, Solar Orbiter \nSPAIN\na) Santiago Compostela / La Coruna with Kosmica Institute (following a campaign we organised in Mexico eclipse on 8 April 2024) Total Solar Eclipse Campaign &  International Moon Day\nb) Valladolid\nc) Teruel Aragon with Spanish Astro Society  https://www.timeanddate.com/eclipse/in/spain/teruel?iso=20260812\nd) Amposta with Generitat Catalunya https://eclipsicatalunya.cat/punts-observacio/\ne) Palma Majorca
URL:https://internationalmoonday.org/event/total-solar-eclipse-campaign-international-moon-day/2026-08-11/1/
LOCATION:Spain\, Barcelona\, Spain
CATEGORIES:Hybrid
ATTACH;FMTTYPE=image/jpeg:https://internationalmoonday.org/wp-content/uploads/2026/02/eclipse-2026.jpg
GEO:41.3873974;2.168568
END:VEVENT
BEGIN:VEVENT
DTSTART;TZID=UTC:20260811T160000
DTEND;TZID=UTC:20260813T110000
DTSTAMP:20260422T011746
CREATED:20260417T142940Z
LAST-MODIFIED:20260417T142941Z
UID:10000486-1786464000-1786618800@internationalmoonday.org
SUMMARY:Total Solar Eclipse Campaign &  International Moon Day
DESCRIPTION:We plan a Multi Site Total Solar Eclipse Campaign &  International Moon Day .\nThat will include observations by professionals\, amateurs and public outreach events celebrating Sun\, Moon\, space\, Science and Cosmos.\nThat will involve various sites :  \nSPACE\nCoordinated observations from Space obervatories including SOHO\, Proba\, Proba3\, Aditya\, Solar Orbiter \nSPAIN\na) Santiago Compostela / La Coruna with Kosmica Institute (following a campaign we organised in Mexico eclipse on 8 April 2024) Total Solar Eclipse Campaign &  International Moon Day\nb) Valladolid\nc) Teruel Aragon with Spanish Astro Society  https://www.timeanddate.com/eclipse/in/spain/teruel?iso=20260812\nd) Amposta with Generitat Catalunya https://eclipsicatalunya.cat/punts-observacio/\ne) Palma Majorca
URL:https://internationalmoonday.org/event/total-solar-eclipse-campaign-international-moon-day/2026-08-11/2/
LOCATION:Spain\, Barcelona\, Spain
CATEGORIES:Hybrid
ATTACH;FMTTYPE=image/jpeg:https://internationalmoonday.org/wp-content/uploads/2026/02/eclipse-2026.jpg
GEO:41.3873974;2.168568
END:VEVENT
END:VCALENDAR